BEGIN:VCALENDAR
VERSION:2.0
PRODID:-//Club Fleurieu - ECPv6.15.17.1//NONSGML v1.0//EN
CALSCALE:GREGORIAN
METHOD:PUBLISH
X-ORIGINAL-URL:https://clubfleurieu.com
X-WR-CALDESC:Events for Club Fleurieu
REFRESH-INTERVAL;VALUE=DURATION:PT1H
X-Robots-Tag:noindex
X-PUBLISHED-TTL:PT1H
BEGIN:VTIMEZONE
TZID:Asia/Hong_Kong
BEGIN:STANDARD
TZOFFSETFROM:+0800
TZOFFSETTO:+0800
TZNAME:HKT
DTSTART:20240101T000000
END:STANDARD
END:VTIMEZONE
BEGIN:VEVENT
DTSTART;TZID=Asia/Hong_Kong:20251014T120000
DTEND;TZID=Asia/Hong_Kong:20251014T140000
DTSTAMP:20260420T084454
CREATED:20250929T062433Z
LAST-MODIFIED:20250929T062433Z
UID:7416-1760443200-1760450400@clubfleurieu.com
SUMMARY:Club Barbecue Lunch October
DESCRIPTION:Join us for our Barbecue Lunch on Tuesday\, October 14 at 12 noon. \nA super tasty casual lunch. Make your booking to enjoy a tasty BBQ lunch. \nCost: $15 per person. Bookings required.
URL:https://clubfleurieu.com/event/club-barbecue-lunch-october-2/
LOCATION:Club Fleurieu\, 140 Main South Road\, Yankalilla\, South Australia\, 5203\, Australia
CATEGORIES:Barbecue
ATTACH;FMTTYPE=image/png:https://clubfleurieu.com/wp-content/uploads/2016/01/fleurieucoast-club-fleurieu-twilight-bbq1.png
ORGANIZER;CN="Club Fleurieu":MAILTO:events@clubfleurieu.com
END:VEVENT
BEGIN:VEVENT
DTSTART;TZID=Asia/Hong_Kong:20251014T180000
DTEND;TZID=Asia/Hong_Kong:20251014T210000
DTSTAMP:20260420T084454
CREATED:20250830T065618Z
LAST-MODIFIED:20250929T062606Z
UID:7389-1760464800-1760475600@clubfleurieu.com
SUMMARY:Night Bingo at the Club
DESCRIPTION:Join us at the club on Tuesday October 14 at 6.00pm for Night Bingo at the Club. \nBjorn will open the Bar at 6pm\, so come along and enjoy a drink before Bingo starts at 7.00pm. \nNo need to be a Club member\, everyone is welcome to join in the fun. \nPlease BYO nibbles\, and book a table if you’re planning to come as a group.
URL:https://clubfleurieu.com/event/night-bingo-at-the-club-17/
LOCATION:Club Fleurieu\, 140 Main South Road\, Yankalilla\, South Australia\, 5203\, Australia
CATEGORIES:Bingo
ATTACH;FMTTYPE=image/jpeg:https://clubfleurieu.com/wp-content/uploads/2014/10/club-fleurieu-bingo-photo.jpg
ORGANIZER;CN="Club Fleurieu":MAILTO:events@clubfleurieu.com
END:VEVENT
END:VCALENDAR