BEGIN:VCALENDAR
VERSION:2.0
PRODID:-//Club Fleurieu - ECPv6.15.17.1//NONSGML v1.0//EN
CALSCALE:GREGORIAN
METHOD:PUBLISH
X-WR-CALNAME:Club Fleurieu
X-ORIGINAL-URL:https://clubfleurieu.com
X-WR-CALDESC:Events for Club Fleurieu
REFRESH-INTERVAL;VALUE=DURATION:PT1H
X-Robots-Tag:noindex
X-PUBLISHED-TTL:PT1H
BEGIN:VTIMEZONE
TZID:Asia/Hong_Kong
BEGIN:STANDARD
TZOFFSETFROM:+0800
TZOFFSETTO:+0800
TZNAME:HKT
DTSTART:20240101T000000
END:STANDARD
END:VTIMEZONE
BEGIN:VEVENT
DTSTART;TZID=Asia/Hong_Kong:20251106T190000
DTEND;TZID=Asia/Hong_Kong:20251106T220000
DTSTAMP:20260420T002822
CREATED:20251031T070755Z
LAST-MODIFIED:20251031T070755Z
UID:7462-1762455600-1762466400@clubfleurieu.com
SUMMARY:November Movie Night “Universal Language”
DESCRIPTION:Thursday November 6 at 7.00pm start Movie Night SFFS presents “Universal Language”\, set in Canada. \nOur themed meal will be served from 6.00pm\, for $15. Bjorn’s Bar will be open for drinks\, snacks & ice creams. \nVisit sffs.org.au if you’d like to join the film society\, and enjoy an entertaining evening on the first Thursday of each month. \nIt’s always a great night\, with plenty of socialising\, good food & drinks\, and an enjoyable movie followed by a quiz! If you’re interested\, visit sffs.org.au to join the film society. Membership is $60 per year. \nThere are no ticket sales at the door.
URL:https://clubfleurieu.com/event/november-movie-night-universal-language/
LOCATION:Club Fleurieu\, 140 Main South Road\, Yankalilla\, South Australia\, 5203\, Australia
CATEGORIES:Movies
ATTACH;FMTTYPE=image/jpeg:https://clubfleurieu.com/wp-content/uploads/2025/10/Universal-Language_Landscape_GrownUps-660x330-2.jpg
ORGANIZER;CN="Club Fleurieu":MAILTO:events@clubfleurieu.com
END:VEVENT
END:VCALENDAR