BEGIN:VCALENDAR
VERSION:2.0
PRODID:-//Club Fleurieu - ECPv6.15.17.1//NONSGML v1.0//EN
CALSCALE:GREGORIAN
METHOD:PUBLISH
X-WR-CALNAME:Club Fleurieu
X-ORIGINAL-URL:https://clubfleurieu.com
X-WR-CALDESC:Events for Club Fleurieu
REFRESH-INTERVAL;VALUE=DURATION:PT1H
X-Robots-Tag:noindex
X-PUBLISHED-TTL:PT1H
BEGIN:VTIMEZONE
TZID:Asia/Hong_Kong
BEGIN:STANDARD
TZOFFSETFROM:+0800
TZOFFSETTO:+0800
TZNAME:HKT
DTSTART:20240101T000000
END:STANDARD
END:VTIMEZONE
BEGIN:VEVENT
DTSTART;TZID=Asia/Hong_Kong:20251128T170000
DTEND;TZID=Asia/Hong_Kong:20251128T190000
DTSTAMP:20260424T145001
CREATED:20251031T065730Z
LAST-MODIFIED:20251031T065948Z
UID:7453-1764349200-1764356400@clubfleurieu.com
SUMMARY:November Happy Hour and Dinner
DESCRIPTION:Join us at the club for our October Happy Hour and Dinner on Friday November 28 from 5.00pm. \nThe Games Room will be available for pool or darts\, and Bjorn has potato chips and ice creams at the bar if you’d like a snack. \n$20 members\, $25 non-members for dinner.
URL:https://clubfleurieu.com/event/november-happy-hour-and-dinner/
LOCATION:Club Fleurieu\, 140 Main South Road\, Yankalilla\, South Australia\, 5203\, Australia
CATEGORIES:Happy Hour
ATTACH;FMTTYPE=image/jpeg:https://clubfleurieu.com/wp-content/uploads/2016/09/happy-hour.jpg
ORGANIZER;CN="Club Fleurieu":MAILTO:events@clubfleurieu.com
END:VEVENT
END:VCALENDAR