BEGIN:VCALENDAR
VERSION:2.0
PRODID:-//Club Fleurieu - ECPv6.15.17.1//NONSGML v1.0//EN
CALSCALE:GREGORIAN
METHOD:PUBLISH
X-WR-CALNAME:Club Fleurieu
X-ORIGINAL-URL:https://clubfleurieu.com
X-WR-CALDESC:Events for Club Fleurieu
REFRESH-INTERVAL;VALUE=DURATION:PT1H
X-Robots-Tag:noindex
X-PUBLISHED-TTL:PT1H
BEGIN:VTIMEZONE
TZID:Asia/Hong_Kong
BEGIN:STANDARD
TZOFFSETFROM:+0800
TZOFFSETTO:+0800
TZNAME:HKT
DTSTART:20240101T000000
END:STANDARD
END:VTIMEZONE
BEGIN:VEVENT
DTSTART;TZID=Asia/Hong_Kong:20250719T183000
DTEND;TZID=Asia/Hong_Kong:20250719T210000
DTSTAMP:20260424T062001
CREATED:20250531T001143Z
LAST-MODIFIED:20250531T001356Z
UID:7228-1752949800-1752958800@clubfleurieu.com
SUMMARY:Swedish Christmas Dinner In July
DESCRIPTION:Bjorn’s popular Swedish Christmas is back\, this time as an evening meal on Saturday 19 July at 6.30pm. \nMain Course: Christmas Ham\, Meatballs\, Janson’s Temptation Potato Dish and Beetroot Salad \nDessert: Sticky Chocolate Cake \nCost: $30 for Mains & Dessert. \nFor an extra $15 try Bjorn’s special entrée: “A Taste of Scandinavia” featuring Herrings\, Smoked Salmon & Schnapps. \nBookings Essential\, opening mid-June.
URL:https://clubfleurieu.com/event/swedish-christmas-dinner-in-july/
LOCATION:Club Fleurieu\, 140 Main South Road\, Yankalilla\, South Australia\, 5203\, Australia
CATEGORIES:Christmas
ATTACH;FMTTYPE=image/jpeg:https://clubfleurieu.com/wp-content/uploads/2022/06/Club-Fleurieu-Christmas-In-Winter-2022-1.jpg
ORGANIZER;CN="Club Fleurieu":MAILTO:events@clubfleurieu.com
END:VEVENT
END:VCALENDAR