BEGIN:VCALENDAR
VERSION:2.0
PRODID:-//Club Fleurieu - ECPv6.15.17.1//NONSGML v1.0//EN
CALSCALE:GREGORIAN
METHOD:PUBLISH
X-WR-CALNAME:Club Fleurieu
X-ORIGINAL-URL:https://clubfleurieu.com
X-WR-CALDESC:Events for Club Fleurieu
REFRESH-INTERVAL;VALUE=DURATION:PT1H
X-Robots-Tag:noindex
X-PUBLISHED-TTL:PT1H
BEGIN:VTIMEZONE
TZID:Asia/Hong_Kong
BEGIN:STANDARD
TZOFFSETFROM:+0800
TZOFFSETTO:+0800
TZNAME:HKT
DTSTART:20230101T000000
END:STANDARD
END:VTIMEZONE
BEGIN:VEVENT
DTSTART;TZID=Asia/Hong_Kong:20241010T120000
DTEND;TZID=Asia/Hong_Kong:20241010T150000
DTSTAMP:20260420T104145
CREATED:20240930T234051Z
LAST-MODIFIED:20240930T234051Z
UID:6897-1728561600-1728572400@clubfleurieu.com
SUMMARY:Come and Try Croquet
DESCRIPTION:Join us at the Club and play Croquet on Thursday 10 October between 12 noon and 3pm. \nThe Club now has a half-court croquet lawn\, between the rotunda and the road! If you would like to try the fascinating sport of Croquet\, come along on Thursday 10 October. \nEquipment\, support and instruction will be provided. Please add your name to the sign-up sheet in the front foyer\, for one of the four 45 minute sessions between 12 noon and 3pm. \nWe are limited to eight members per session. You will be warmly welcomed to join in the fun!
URL:https://clubfleurieu.com/event/come-and-try-croquet/
LOCATION:Club Fleurieu\, 140 Main South Road\, Yankalilla\, South Australia\, 5203\, Australia
CATEGORIES:Croquet
ATTACH;FMTTYPE=image/jpeg:https://clubfleurieu.com/wp-content/uploads/2024/10/croquet-club-fleurieu.jpg
ORGANIZER;CN="Club Fleurieu":MAILTO:events@clubfleurieu.com
END:VEVENT
END:VCALENDAR