BEGIN:VCALENDAR
VERSION:2.0
PRODID:-//Club Fleurieu - ECPv6.15.17.1//NONSGML v1.0//EN
CALSCALE:GREGORIAN
METHOD:PUBLISH
X-WR-CALNAME:Club Fleurieu
X-ORIGINAL-URL:https://clubfleurieu.com
X-WR-CALDESC:Events for Club Fleurieu
REFRESH-INTERVAL;VALUE=DURATION:PT1H
X-Robots-Tag:noindex
X-PUBLISHED-TTL:PT1H
BEGIN:VTIMEZONE
TZID:Asia/Hong_Kong
BEGIN:STANDARD
TZOFFSETFROM:+0800
TZOFFSETTO:+0800
TZNAME:HKT
DTSTART:20170101T000000
END:STANDARD
END:VTIMEZONE
BEGIN:VEVENT
DTSTART;TZID=Asia/Hong_Kong:20180925T110000
DTEND;TZID=Asia/Hong_Kong:20180925T160000
DTSTAMP:20260424T220127
CREATED:20180905T015007Z
LAST-MODIFIED:20180905T015027Z
UID:3714-1537873200-1537891200@clubfleurieu.com
SUMMARY:Mahjong Group Birthday Marathon
DESCRIPTION:The Yankalilla Mahjong group will be celebrating their 5th birthday with a Mahjong Marathon onMonday\, September 17th from 11.00am to 4.00pm at Club Fleurieu. Mahjong can assist with keeping Alzheimer’s at bay and help you to live a healthier\, longer life. If you are interested in the game\, it’s not too late to join the class. \nJust drop by on Monday\, September 17th between 11am & 4pm or Tuesday 25th September between 11.30am & 1.30 pm to watch experienced players in action! \nFor enquiries\, please ring Annie Lai on 8558 3178 or 0408 367 801.
URL:https://clubfleurieu.com/event/mahjong-group-birthday-marathon-2/
LOCATION:Club Fleurieu\, 140 Main South Road\, Yankalilla\, South Australia\, 5203\, Australia
CATEGORIES:Mah Jong
ATTACH;FMTTYPE=image/jpeg:https://clubfleurieu.com/wp-content/uploads/2016/01/fleurieucoast-club-fleurieu-mar-jong.jpg
ORGANIZER;CN="Club Fleurieu":MAILTO:events@clubfleurieu.com
END:VEVENT
BEGIN:VEVENT
DTSTART;TZID=Asia/Hong_Kong:20180917T110000
DTEND;TZID=Asia/Hong_Kong:20180917T160000
DTSTAMP:20260424T220127
CREATED:20180905T014851Z
LAST-MODIFIED:20180905T014851Z
UID:3710-1537182000-1537200000@clubfleurieu.com
SUMMARY:Mahjong Group Birthday Marathon
DESCRIPTION:The Yankalilla Mahjong group will be celebrating their 5th birthday with a Mahjong Marathon onMonday\, September 17th from 11.00am to 4.00pm at Club Fleurieu. Mahjong can assist with keeping Alzheimer’s at bay and help you to live a healthier\, longer life. If you are interested in the game\, it’s not too late to join the class. \nJust drop by on Monday\, September 17th between 11am & 4pm or Tuesday 25th September between 11.30am & 1.30 pm to watch experienced players in action! \nFor enquiries\, please ring Annie Lai on 8558 3178 or 0408 367 801.
URL:https://clubfleurieu.com/event/mahjong-group-birthday-marathon/
LOCATION:Club Fleurieu\, 140 Main South Road\, Yankalilla\, South Australia\, 5203\, Australia
CATEGORIES:Mah Jong
ATTACH;FMTTYPE=image/jpeg:https://clubfleurieu.com/wp-content/uploads/2016/01/fleurieucoast-club-fleurieu-mar-jong.jpg
ORGANIZER;CN="Club Fleurieu":MAILTO:events@clubfleurieu.com
END:VEVENT
END:VCALENDAR