BEGIN:VCALENDAR
VERSION:2.0
PRODID:-//Club Fleurieu - ECPv6.15.17.1//NONSGML v1.0//EN
CALSCALE:GREGORIAN
METHOD:PUBLISH
X-WR-CALNAME:Club Fleurieu
X-ORIGINAL-URL:https://clubfleurieu.com
X-WR-CALDESC:Events for Club Fleurieu
REFRESH-INTERVAL;VALUE=DURATION:PT1H
X-Robots-Tag:noindex
X-PUBLISHED-TTL:PT1H
BEGIN:VTIMEZONE
TZID:Asia/Hong_Kong
BEGIN:STANDARD
TZOFFSETFROM:+0800
TZOFFSETTO:+0800
TZNAME:HKT
DTSTART:20200101T000000
END:STANDARD
END:VTIMEZONE
BEGIN:VEVENT
DTSTART;VALUE=DATE:20210423
DTEND;VALUE=DATE:20210424
DTSTAMP:20260424T145112
CREATED:20210331T030733Z
LAST-MODIFIED:20210331T030733Z
UID:5076-1619136000-1619222399@clubfleurieu.com
SUMMARY:Club Fleurieu Open Day
DESCRIPTION:The Club will hold an Open Day on Friday 23 April as part of the “Flourishing on the Fleurieu” Festival. \nMore details will follow closer to the day.
URL:https://clubfleurieu.com/event/club-fleurieu-open-day-2/
LOCATION:Club Fleurieu\, 140 Main South Road\, Yankalilla\, South Australia\, 5203\, Australia
CATEGORIES:Open Day
ATTACH;FMTTYPE=image/jpeg:https://clubfleurieu.com/wp-content/uploads/2021/03/Club-Fleurieu-Open-Day-2021-2.jpg
ORGANIZER;CN="Club Fleurieu":MAILTO:events@clubfleurieu.com
END:VEVENT
END:VCALENDAR