BEGIN:VCALENDAR
VERSION:2.0
PRODID:-//Club Fleurieu - ECPv6.15.17.1//NONSGML v1.0//EN
CALSCALE:GREGORIAN
METHOD:PUBLISH
X-WR-CALNAME:Club Fleurieu
X-ORIGINAL-URL:https://clubfleurieu.com
X-WR-CALDESC:Events for Club Fleurieu
REFRESH-INTERVAL;VALUE=DURATION:PT1H
X-Robots-Tag:noindex
X-PUBLISHED-TTL:PT1H
BEGIN:VTIMEZONE
TZID:Asia/Hong_Kong
BEGIN:STANDARD
TZOFFSETFROM:+0800
TZOFFSETTO:+0800
TZNAME:HKT
DTSTART:20220101T000000
END:STANDARD
END:VTIMEZONE
BEGIN:VEVENT
DTSTART;VALUE=DATE:20230930
DTEND;VALUE=DATE:20231001
DTSTAMP:20260420T051506
CREATED:20230701T064636Z
LAST-MODIFIED:20230701T065148Z
UID:6263-1696032000-1696118399@clubfleurieu.com
SUMMARY:Yankalilla Show Club Stall
DESCRIPTION:Stay tuned for more news coming soon….
URL:https://clubfleurieu.com/event/yankalilla-show-club-stall/
LOCATION:Club Fleurieu\, 140 Main South Road\, Yankalilla\, South Australia\, 5203\, Australia
CATEGORIES:Yankalilla Show
ORGANIZER;CN="Club Fleurieu":MAILTO:events@clubfleurieu.com
END:VEVENT
BEGIN:VEVENT
DTSTART;TZID=Asia/Hong_Kong:20230929T170000
DTEND;TZID=Asia/Hong_Kong:20230929T190000
DTSTAMP:20260420T051506
CREATED:20230901T065807Z
LAST-MODIFIED:20230901T065807Z
UID:6346-1696006800-1696014000@clubfleurieu.com
SUMMARY:Happy Hour and Games Night
DESCRIPTION:Join us at the club for our Happy Hour & Games Night\, starting from 5.00pm on Friday 29 September. \nHave a drink\, buy a snack platter\, and enjoy a friendly game of pool\, darts or chess. \nNo need to book. Many thanks to Annie Lai for cooking us Laksa for our August Games night. It was delicious!
URL:https://clubfleurieu.com/event/happy-hour-and-games-night-13/
LOCATION:Club Fleurieu\, 140 Main South Road\, Yankalilla\, South Australia\, 5203\, Australia
ATTACH;FMTTYPE=image/jpeg:https://clubfleurieu.com/wp-content/uploads/2017/07/Games-Night.jpg
ORGANIZER;CN="Club Fleurieu":MAILTO:events@clubfleurieu.com
END:VEVENT
BEGIN:VEVENT
DTSTART;TZID=Asia/Hong_Kong:20230922T193000
DTEND;TZID=Asia/Hong_Kong:20230922T210000
DTSTAMP:20260420T051506
CREATED:20230901T062357Z
LAST-MODIFIED:20230901T062800Z
UID:6321-1695411000-1695416400@clubfleurieu.com
SUMMARY:Quiz Night
DESCRIPTION:Join us at the club on Friday 22 September 7.00 for 7.30pm start for QUIZ NIGHT! \nDon’t miss this fun evening of trivia\, games\, raffles and prizes! Book your table of maximum\n8 people\, or we can arrange for you to join a table. \nBYO Supper; Bjorn’s Bar will be open for all your drink purchases. Proceeds will go to Yankalilla RSL. \nCost $10 per head.
URL:https://clubfleurieu.com/event/quiz-night-2/
LOCATION:Club Fleurieu\, 140 Main South Road\, Yankalilla\, South Australia\, 5203\, Australia
CATEGORIES:Quiz Night
ATTACH;FMTTYPE=image/jpeg:https://clubfleurieu.com/wp-content/uploads/2017/07/club-fleurieu-coast-quiz-night.jpg
ORGANIZER;CN="Club Fleurieu":MAILTO:events@clubfleurieu.com
END:VEVENT
BEGIN:VEVENT
DTSTART;TZID=Asia/Hong_Kong:20230920T120000
DTEND;TZID=Asia/Hong_Kong:20230920T140000
DTSTAMP:20260420T051506
CREATED:20230901T065404Z
LAST-MODIFIED:20230901T065404Z
UID:6343-1695211200-1695218400@clubfleurieu.com
SUMMARY:September Club Lunch
DESCRIPTION:Join us at the club on Wednesday 20 September at 12 noon for our Club Lunch. \nThis month we celebrate all our fantastic Dads and Grandads with a Father’s Day themed Club Lunch. \nMain Course: Lamb & Stout Pie with vegetables or Schnitzel with Wedges & Salad \nDessert: Bread & Butter Pudding or Fruit & Icecream \nCost: $17 members\, $22 non-members… Bookings Essential.
URL:https://clubfleurieu.com/event/september-club-lunch-4/
LOCATION:Club Fleurieu\, 140 Main South Road\, Yankalilla\, South Australia\, 5203\, Australia
CATEGORIES:Lunch
ATTACH;FMTTYPE=image/jpeg:https://clubfleurieu.com/wp-content/uploads/2021/05/chicken-schnitzel-club-fleurieu.jpg
ORGANIZER;CN="Club Fleurieu":MAILTO:events@clubfleurieu.com
END:VEVENT
BEGIN:VEVENT
DTSTART;TZID=Asia/Hong_Kong:20230912T193000
DTEND;TZID=Asia/Hong_Kong:20230912T210000
DTSTAMP:20260420T051506
CREATED:20230901T061026Z
LAST-MODIFIED:20230901T061144Z
UID:6316-1694547000-1694552400@clubfleurieu.com
SUMMARY:Night Bingo at the Club
DESCRIPTION:Join us at the club on Tuesday 12 September at 7.00pm for NIGHT BINGO! \nEyes down at 7.30pm. Come along to our first Night Bingo in many years\, have some fun and try your luck! The Bar will be open for refreshments.
URL:https://clubfleurieu.com/event/night-bingo-at-the-club/
LOCATION:Club Fleurieu\, 140 Main South Road\, Yankalilla\, South Australia\, 5203\, Australia
CATEGORIES:Bingo
ATTACH;FMTTYPE=image/jpeg:https://clubfleurieu.com/wp-content/uploads/2016/02/fleurieucoast-fleurieu-coast-club-fleurieu-bingo.jpeg
ORGANIZER;CN="Club Fleurieu":MAILTO:events@clubfleurieu.com
END:VEVENT
BEGIN:VEVENT
DTSTART;TZID=Asia/Hong_Kong:20230912T120000
DTEND;TZID=Asia/Hong_Kong:20230912T133000
DTSTAMP:20260420T051506
CREATED:20230901T065056Z
LAST-MODIFIED:20230901T065056Z
UID:6338-1694520000-1694525400@clubfleurieu.com
SUMMARY:Barbecue Lunch
DESCRIPTION:Join us at the club on Tuesday 12 September 12 noon for our famous Barbecue Lunch. \nThe warmer weather is here (with any luck) and our monthly BBQ is back! \nMake your booking to enjoy a tasty lunch. $12 per person.
URL:https://clubfleurieu.com/event/barbecue-lunch-10/
LOCATION:Club Fleurieu\, 140 Main South Road\, Yankalilla\, South Australia\, 5203\, Australia
CATEGORIES:Barbecue
ATTACH;FMTTYPE=image/jpeg:https://clubfleurieu.com/wp-content/uploads/2018/01/BBQ-lunch.jpg
ORGANIZER;CN="Club Fleurieu":MAILTO:events@clubfleurieu.com
END:VEVENT
BEGIN:VEVENT
DTSTART;TZID=Asia/Hong_Kong:20230907T183000
DTEND;TZID=Asia/Hong_Kong:20230907T213000
DTSTAMP:20260420T051506
CREATED:20230901T064236Z
LAST-MODIFIED:20230901T064601Z
UID:6327-1694111400-1694122200@clubfleurieu.com
SUMMARY:Happy Hour and Dinner
DESCRIPTION:Join us at the club on Thursday 7 September for our monthly Film Night. \n6.30pm for 7.00pm start Southern Fleurieu Film Society presents “Terror Nullius”\, a comedy described as “A Political Revenge Fable in Three Acts”. \nBjorn’s Bar will be open for drinks and “movie-style” snacks. \nAll enquiries should be directed to Southern Fleurieu Film Society\, phone 8558 0240 or email cooee@visitfleurieucoast.com.au. \n \n 
URL:https://clubfleurieu.com/event/happy-hour-and-dinner-11/
LOCATION:Club Fleurieu\, 140 Main South Road\, Yankalilla\, South Australia\, 5203\, Australia
ATTACH;FMTTYPE=image/jpeg:https://clubfleurieu.com/wp-content/uploads/2023/09/maxresdefault.jpg
ORGANIZER;CN="Club Fleurieu":MAILTO:events@clubfleurieu.com
END:VEVENT
BEGIN:VEVENT
DTSTART;TZID=Asia/Hong_Kong:20230902T150000
DTEND;TZID=Asia/Hong_Kong:20230902T170000
DTSTAMP:20260420T051507
CREATED:20230701T064958Z
LAST-MODIFIED:20230701T065029Z
UID:6267-1693666800-1693674000@clubfleurieu.com
SUMMARY:Club Annual General Meeting
DESCRIPTION:Stay tuned for more news coming soon….
URL:https://clubfleurieu.com/event/club-annual-general-meeting-2/
LOCATION:Club Fleurieu\, 140 Main South Road\, Yankalilla\, South Australia\, 5203\, Australia
CATEGORIES:Annual General Meeting
ATTACH;FMTTYPE=image/jpeg:https://clubfleurieu.com/wp-content/uploads/2017/12/fleurieucoast-club-fleurieu-rotunda-13.jpg
ORGANIZER;CN="Club Fleurieu":MAILTO:events@clubfleurieu.com
END:VEVENT
BEGIN:VEVENT
DTSTART;TZID=Asia/Hong_Kong:20230825T170000
DTEND;TZID=Asia/Hong_Kong:20230825T190000
DTSTAMP:20260420T051507
CREATED:20230801T042243Z
LAST-MODIFIED:20230801T042243Z
UID:6298-1692982800-1692990000@clubfleurieu.com
SUMMARY:Happy Hour and Games Night
DESCRIPTION:Happy Hour & Games Night from 5.00pm on Friday 25 August \nHave a drink and enjoy a game of pool\, darts\, chess or cards. As a special treat\, Annie Lai will be cooking her delicious Laksa for us! It will be available for $10 per serve. No bookings needed. \n*Please note there will be no Happy Hour/Dinner this month. Yankalilla Hockey Club will be holding their Quiz Night at the Club on Friday 11 August*
URL:https://clubfleurieu.com/event/happy-hour-and-games-night-12/
LOCATION:Club Fleurieu\, 140 Main South Road\, Yankalilla\, South Australia\, 5203\, Australia
ATTACH;FMTTYPE=image/jpeg:https://clubfleurieu.com/wp-content/uploads/2017/07/Games-Night.jpg
ORGANIZER;CN="Club Fleurieu":MAILTO:events@clubfleurieu.com
END:VEVENT
BEGIN:VEVENT
DTSTART;TZID=Asia/Hong_Kong:20230816T120000
DTEND;TZID=Asia/Hong_Kong:20230816T140000
DTSTAMP:20260420T051507
CREATED:20230801T041047Z
LAST-MODIFIED:20230801T041047Z
UID:6294-1692187200-1692194400@clubfleurieu.com
SUMMARY:August Club Lunch
DESCRIPTION:Join us for our monthly Club Lunch on Wednesday 16 August at 12 noon \nMains: Lamb Shanks or Corned Beef\, both served with vegetables \nDessert: Apple Cake or Fruit & Icecream \nCost: $17 members\, $22 non-members.  Bookings Essential.
URL:https://clubfleurieu.com/event/august-club-lunch-3/
LOCATION:Club Fleurieu\, 140 Main South Road\, Yankalilla\, South Australia\, 5203\, Australia
ATTACH;FMTTYPE=image/jpeg:https://clubfleurieu.com/wp-content/uploads/2019/01/Club-Fleurieu-Lamb-Shanks.jpg
ORGANIZER;CN="Club Fleurieu":MAILTO:events@clubfleurieu.com
END:VEVENT
BEGIN:VEVENT
DTSTART;TZID=Asia/Hong_Kong:20230808T120000
DTEND;TZID=Asia/Hong_Kong:20230808T140000
DTSTAMP:20260420T051507
CREATED:20230801T040341Z
LAST-MODIFIED:20230801T040609Z
UID:6290-1691496000-1691503200@clubfleurieu.com
SUMMARY:Winter Warmer Lunch
DESCRIPTION:Join us at the Club on Tuesday 8 August at 12 noon for our Winter Warmer Lunch. \nEnjoy Steak Sandwiches “with the lot” for $12 per person. \nMake your booking to enjoy good company\, a drink and a tasty lunch!
URL:https://clubfleurieu.com/event/winter-warmer-lunch-4/
LOCATION:Club Fleurieu\, 140 Main South Road\, Yankalilla\, South Australia\, 5203\, Australia
ATTACH;FMTTYPE=image/jpeg:https://clubfleurieu.com/wp-content/uploads/2023/08/club-fleurieu-steak-sandwich.jpg
ORGANIZER;CN="Club Fleurieu":MAILTO:events@clubfleurieu.com
END:VEVENT
BEGIN:VEVENT
DTSTART;TZID=Asia/Hong_Kong:20230803T183000
DTEND;TZID=Asia/Hong_Kong:20230803T193000
DTSTAMP:20260420T051507
CREATED:20230801T040504Z
LAST-MODIFIED:20230801T040504Z
UID:6292-1691087400-1691091000@clubfleurieu.com
SUMMARY:Southern Fleurieu Film Society Monthly Movies
DESCRIPTION:Join us at the Club on Thursday 3 August for the Southern Fleurieu Film Society Film Night 6.30pm for 7.00pm start. \nThis month’s movie is “The Secret in their Eyes”. Bjorn’s Bar will be open for drinks and “movie-style” snacks. If you’d like to attend the movies from August through to December it will be necessary to join the Film Society. The charge will be $25 for the remainder of the year. \nAll enquiries should be directed to Southern Fleurieu Film Society\, phone 8558 0240 or email cooee@visitfleurieucoast.com.au.
URL:https://clubfleurieu.com/event/southern-fleurieu-film-society-monthly-movies-2/
LOCATION:Club Fleurieu\, 140 Main South Road\, Yankalilla\, South Australia\, 5203\, Australia
ATTACH;FMTTYPE=image/jpeg:https://clubfleurieu.com/wp-content/uploads/2023/08/secret-in-their-eyes.jpg
ORGANIZER;CN="Club Fleurieu":MAILTO:events@clubfleurieu.com
END:VEVENT
BEGIN:VEVENT
DTSTART;TZID=Asia/Hong_Kong:20230728T170000
DTEND;TZID=Asia/Hong_Kong:20230728T190000
DTSTAMP:20260420T051507
CREATED:20230701T064114Z
LAST-MODIFIED:20230701T064114Z
UID:6261-1690563600-1690570800@clubfleurieu.com
SUMMARY:Happy Hour and Games Night
DESCRIPTION:Join us at the club for our Happy Hour & Games Night from 5.00pm on Friday 28 July. \nHave a drink\, buy a $10 snack platter\, and enjoy a game of pool or darts.
URL:https://clubfleurieu.com/event/happy-hour-and-games-night-11/
LOCATION:Club Fleurieu\, 140 Main South Road\, Yankalilla\, South Australia\, 5203\, Australia
ATTACH;FMTTYPE=image/jpeg:https://clubfleurieu.com/wp-content/uploads/2017/07/Games-Night.jpg
ORGANIZER;CN="Club Fleurieu":MAILTO:events@clubfleurieu.com
END:VEVENT
BEGIN:VEVENT
DTSTART;TZID=Asia/Hong_Kong:20230719T120000
DTEND;TZID=Asia/Hong_Kong:20230719T140000
DTSTAMP:20260420T051507
CREATED:20230701T063727Z
LAST-MODIFIED:20230701T063727Z
UID:6256-1689768000-1689775200@clubfleurieu.com
SUMMARY:July Club Lunch
DESCRIPTION:Join us for our Club Lunch on Wednesday 19 July at 12 noon. \nMain Course: Chicken Biryani or Roast Pork \nDessert: Chocolate Banoffee Pie or Fruit & Icecream \nCost: $17 members\, $22 non-members.
URL:https://clubfleurieu.com/event/july-club-lunch-3/
LOCATION:Club Fleurieu\, 140 Main South Road\, Yankalilla\, South Australia\, 5203\, Australia
ATTACH;FMTTYPE=image/jpeg:https://clubfleurieu.com/wp-content/uploads/2016/05/Roast-Pork.jpg
ORGANIZER;CN="Club Fleurieu":MAILTO:events@clubfleurieu.com
END:VEVENT
BEGIN:VEVENT
DTSTART;TZID=Asia/Hong_Kong:20230714T170000
DTEND;TZID=Asia/Hong_Kong:20230714T190000
DTSTAMP:20260420T051507
CREATED:20230701T063317Z
LAST-MODIFIED:20230701T063317Z
UID:6253-1689354000-1689361200@clubfleurieu.com
SUMMARY:Happy Hour and Bastille Day French Dinner
DESCRIPTION:Join us at the club on Friday\, 14 July from 5.00pm for our Happy Hour and Bastille Day French Dinner. \nOoh la la! Dust off that beret and polish up your French accent. This evening we will celebrate all things Français\, with a menu straight from the restaurants of Paris! \nSoup: French Onion or Bouillabaisse  \nMain Course: Coq au Vin or Beef Bourguinon  \nDessert: Crepes with Icecream \nCost: $30 per person
URL:https://clubfleurieu.com/event/happy-hour-and-bastille-day-french-dinner/
LOCATION:Club Fleurieu\, 140 Main South Road\, Yankalilla\, South Australia\, 5203\, Australia
ATTACH;FMTTYPE=image/jpeg:https://clubfleurieu.com/wp-content/uploads/2017/07/Bastille-Day.jpg
ORGANIZER;CN="Club Fleurieu":MAILTO:events@clubfleurieu.com
END:VEVENT
BEGIN:VEVENT
DTSTART;TZID=Asia/Hong_Kong:20230711T120000
DTEND;TZID=Asia/Hong_Kong:20230711T140000
DTSTAMP:20260420T051507
CREATED:20230701T060657Z
LAST-MODIFIED:20230701T060657Z
UID:6235-1689076800-1689084000@clubfleurieu.com
SUMMARY:Winter Warmer Lunch
DESCRIPTION:Join us at the club for our Winter Warmer Lunch at 12 noon on Tuesday 11 July. \nMain Course: Homemade pasties\, just $12 per person.
URL:https://clubfleurieu.com/event/winter-warmer-lunch-3/
LOCATION:Club Fleurieu\, 140 Main South Road\, Yankalilla\, South Australia\, 5203\, Australia
CATEGORIES:Lunch
ATTACH;FMTTYPE=image/jpeg:https://clubfleurieu.com/wp-content/uploads/2023/07/club-fleurieu-pasty-homemade.jpg
ORGANIZER;CN="Club Fleurieu":MAILTO:events@clubfleurieu.com
END:VEVENT
BEGIN:VEVENT
DTSTART;TZID=Asia/Hong_Kong:20230706T183000
DTEND;TZID=Asia/Hong_Kong:20230706T210000
DTSTAMP:20260420T051507
CREATED:20230701T061124Z
LAST-MODIFIED:20230701T061124Z
UID:6242-1688668200-1688677200@clubfleurieu.com
SUMMARY:Southern Fleurieu Film Society Monthly Movies
DESCRIPTION:Join us at the club on Thursday 6 July for our next Film Night\, 6.30pm for 7.00pm start. \nSouthern Fleurieu Film Society presents “Wash My Soul in the River’s Flow”. \nOur free film night in June was a great success\, and the audience all enjoyed the movie “As It Is In Heaven”. If you wish to attend the movies from July through to December it will be necessary to join the Film Society. \nThe charge will be $25 for the chance to view six movies\, which you’ll agree is great value! All enquiries should be directed to \nPlease register your attendance\, by phoning Southern Fleurieu Film Society on 8558 0240 or emailing cooee@visitfleurieucoast.com.au \n \n 
URL:https://clubfleurieu.com/event/southern-fleurieu-film-society-monthly-movies/
LOCATION:Club Fleurieu\, 140 Main South Road\, Yankalilla\, South Australia\, 5203\, Australia
CATEGORIES:Movies
ATTACH;FMTTYPE=image/jpeg:https://clubfleurieu.com/wp-content/uploads/2023/07/wash-my-soul.jpg
ORGANIZER;CN="Club Fleurieu":MAILTO:events@clubfleurieu.com
END:VEVENT
BEGIN:VEVENT
DTSTART;TZID=Asia/Hong_Kong:20230630T080000
DTEND;TZID=Asia/Hong_Kong:20230630T170000
DTSTAMP:20260420T051507
CREATED:20230601T055726Z
LAST-MODIFIED:20230601T055726Z
UID:6207-1688112000-1688144400@clubfleurieu.com
SUMMARY:Happy Hour and Games Night
DESCRIPTION:Join us at the club for our Happy Hour & Games Night from 5.00pm on Friday 30 June. \nDrinks\, $10 Snack plates and games.
URL:https://clubfleurieu.com/event/happy-hour-and-games-night-10/
LOCATION:Club Fleurieu\, 140 Main South Road\, Yankalilla\, South Australia\, 5203\, Australia
ATTACH;FMTTYPE=image/jpeg:https://clubfleurieu.com/wp-content/uploads/2017/07/Games-Night.jpg
ORGANIZER;CN="Club Fleurieu":MAILTO:events@clubfleurieu.com
END:VEVENT
BEGIN:VEVENT
DTSTART;TZID=Asia/Hong_Kong:20230621T120000
DTEND;TZID=Asia/Hong_Kong:20230621T143000
DTSTAMP:20260420T051507
CREATED:20230601T054615Z
LAST-MODIFIED:20230601T054615Z
UID:6204-1687348800-1687357800@clubfleurieu.com
SUMMARY:June Club Lunch
DESCRIPTION:Join us at the club for our monthly Club Lunch on Wednesday 21 June at 12 noon. \nFeaturing Apricot Chicken or Fish & Chips for main course. \nDessert: Apple Pie with icecream for dessert. \nCost: $17 members\, $22 non-members.
URL:https://clubfleurieu.com/event/june-club-lunch-4/
LOCATION:Club Fleurieu\, 140 Main South Road\, Yankalilla\, South Australia\, 5203\, Australia
CATEGORIES:Lunch
ATTACH;FMTTYPE=image/jpeg:https://clubfleurieu.com/wp-content/uploads/2017/07/Fresh-fish-photo.jpg
ORGANIZER;CN="Club Fleurieu":MAILTO:events@clubfleurieu.com
END:VEVENT
BEGIN:VEVENT
DTSTART;TZID=Asia/Hong_Kong:20230615T183000
DTEND;TZID=Asia/Hong_Kong:20230615T220000
DTSTAMP:20260420T051507
CREATED:20230601T060609Z
LAST-MODIFIED:20230601T060759Z
UID:6213-1686853800-1686866400@clubfleurieu.com
SUMMARY:Free Film Night at the Club
DESCRIPTION:Join us at the club for a Free Film Night\, Thursday 15 June commencing at 6.30pm for 7.00pm start. \nSouthern Fleurieu Film Society presents “As it is in Heaven”. \nDon’t miss this free screening of a popular movie! \nPlease register your attendance\, by phoning 8558 0240 or emailing cooee@visitfleurieucoast.com.au \n \n 
URL:https://clubfleurieu.com/event/free-film-night-at-the-club/
LOCATION:Club Fleurieu\, 140 Main South Road\, Yankalilla\, South Australia\, 5203\, Australia
CATEGORIES:Events
ATTACH;FMTTYPE=image/jpeg:https://clubfleurieu.com/wp-content/uploads/2023/06/322713667897_05290105_image130208_large.jpg
ORGANIZER;CN="Club Fleurieu":MAILTO:events@clubfleurieu.com
END:VEVENT
BEGIN:VEVENT
DTSTART;TZID=Asia/Hong_Kong:20230613T120000
DTEND;TZID=Asia/Hong_Kong:20230613T140000
DTSTAMP:20260420T051507
CREATED:20230601T055913Z
LAST-MODIFIED:20230601T055944Z
UID:6210-1686657600-1686664800@clubfleurieu.com
SUMMARY:Winter Warmer Lunch
DESCRIPTION:Join us at the club for our Winter Warmer Lunch at 12 noon on Tuesday 13 June. \nMain Course: Hearty Casserole for just $12 per person.
URL:https://clubfleurieu.com/event/winter-warmer-lunch-2/
LOCATION:Club Fleurieu\, 140 Main South Road\, Yankalilla\, South Australia\, 5203\, Australia
CATEGORIES:Lunch
ATTACH;FMTTYPE=image/jpeg:https://clubfleurieu.com/wp-content/uploads/2022/09/shepherds-pie-1.jpeg
ORGANIZER;CN="Club Fleurieu":MAILTO:events@clubfleurieu.com
END:VEVENT
BEGIN:VEVENT
DTSTART;TZID=Asia/Hong_Kong:20230609T170000
DTEND;TZID=Asia/Hong_Kong:20230609T193000
DTSTAMP:20260420T051507
CREATED:20230601T045552Z
LAST-MODIFIED:20230601T050312Z
UID:6186-1686330000-1686339000@clubfleurieu.com
SUMMARY:Happy Hour and Curry
DESCRIPTION:This month we will hold a Happy Hour and Curry Night on Friday 9 June at 5.00pm. \nJoin us from 5pm for a drink\, or make your booking to stay on for a mild chicken or spicy beef curry. \n$20 members\, $25 non-members\, $5 optional dessert.
URL:https://clubfleurieu.com/event/happy-hour-and-curry/
LOCATION:Club Fleurieu\, 140 Main South Road\, Yankalilla\, South Australia\, 5203\, Australia
ATTACH;FMTTYPE=image/jpeg:https://clubfleurieu.com/wp-content/uploads/2021/08/club-fleurieu-indian-curry-dinner.jpg
ORGANIZER;CN="Club Fleurieu":MAILTO:events@clubfleurieu.com
END:VEVENT
BEGIN:VEVENT
DTSTART;TZID=Asia/Hong_Kong:20230602T193000
DTEND;TZID=Asia/Hong_Kong:20230602T220000
DTSTAMP:20260420T051507
CREATED:20230502T234515Z
LAST-MODIFIED:20230502T234515Z
UID:6161-1685734200-1685743200@clubfleurieu.com
SUMMARY:The River Rats Return!
DESCRIPTION:The fabulous River Rats return to the club on Friday 2 June from 7.30pm! \nThe Rats are back at the Club for another fantastic evening of classic rhythm & blues. We’re looking forward to a great night! \nTickets $15. Bookings Essential. \nOnline Bookings through www.trybooking.com/CHGMT OR Buy tickets from the Club or the Op Shop\, Yankalilla \nBar open from 6.30pm. Snack platters available to purchase. \nAll financial Club members will receive a $5 food/drink voucher.
URL:https://clubfleurieu.com/event/the-river-rats-return-2/
LOCATION:Club Fleurieu\, 140 Main South Road\, Yankalilla\, South Australia\, 5203\, Australia
ATTACH;FMTTYPE=image/jpeg:https://clubfleurieu.com/wp-content/uploads/2022/04/club-fleurieu-river-rats-1.jpg
ORGANIZER;CN="Club Fleurieu":MAILTO:events@clubfleurieu.com
END:VEVENT
BEGIN:VEVENT
DTSTART;TZID=Asia/Hong_Kong:20230517T120000
DTEND;TZID=Asia/Hong_Kong:20230517T140000
DTSTAMP:20260420T051507
CREATED:20230502T233841Z
LAST-MODIFIED:20230502T234733Z
UID:6155-1684324800-1684332000@clubfleurieu.com
SUMMARY:May Club Lunch
DESCRIPTION:Join us at the club for our May Club Lunch on Wednesday 17 May at 12 noon. This month’s theme is “Mother’s Day Theme”. \nMains: Chicken with creamy pancetta\, pea & tarragon sauce or Osso Bucco\, both mains accompanied by vegetables. \nDessert: Sticky Date Pudding or Fruit & Icecream. $17 members\, $22 non-members.
URL:https://clubfleurieu.com/event/may-club-lunch/
LOCATION:Club Fleurieu\, 140 Main South Road\, Yankalilla\, South Australia\, 5203\, Australia
ATTACH;FMTTYPE=image/jpeg:https://clubfleurieu.com/wp-content/uploads/2021/08/club-fleurieu-osso-bucco-night.jpeg
ORGANIZER;CN="Club Fleurieu":MAILTO:events@clubfleurieu.com
END:VEVENT
BEGIN:VEVENT
DTSTART;TZID=Asia/Hong_Kong:20230512T170000
DTEND;TZID=Asia/Hong_Kong:20230512T190000
DTSTAMP:20260420T051507
CREATED:20230502T234129Z
LAST-MODIFIED:20230502T234129Z
UID:6158-1683910800-1683918000@clubfleurieu.com
SUMMARY:Happy Hour and Dinner
DESCRIPTION:Join us at the club for our regular Happy Hour and Dinner on Friday 12 May from 5.00pm \nEnjoy chargrilled Lamb Koftas & Chicken Shaslicks\, accompanied by wedges and salad. Optional dessert will follow. \n$20 members\, $25 non-members\, $5 dessert.
URL:https://clubfleurieu.com/event/happy-hour-and-dinner-10/
LOCATION:Club Fleurieu\, 140 Main South Road\, Yankalilla\, South Australia\, 5203\, Australia
ATTACH;FMTTYPE=image/jpeg:https://clubfleurieu.com/wp-content/uploads/2016/09/happy-hour.jpg
ORGANIZER;CN="Club Fleurieu":MAILTO:events@clubfleurieu.com
END:VEVENT
BEGIN:VEVENT
DTSTART;TZID=Asia/Hong_Kong:20230509T120000
DTEND;TZID=Asia/Hong_Kong:20230509T140000
DTSTAMP:20260420T051507
CREATED:20230502T233429Z
LAST-MODIFIED:20230502T233429Z
UID:6150-1683633600-1683640800@clubfleurieu.com
SUMMARY:Winter Warmer Lunch
DESCRIPTION:This month\, the Club Barbecue becomes the “Winter Warmer Lunch” with hearty pies on the menu on Tuesday\, May 9 at 12 noon. \nCost : $12 per person.
URL:https://clubfleurieu.com/event/winter-warmer-lunch/
LOCATION:Club Fleurieu\, 140 Main South Road\, Yankalilla\, South Australia\, 5203\, Australia
CATEGORIES:Barbecue
ATTACH;FMTTYPE=image/jpeg:https://clubfleurieu.com/wp-content/uploads/2020/09/meat-pie.jpg
ORGANIZER;CN="Club Fleurieu":MAILTO:events@clubfleurieu.com
END:VEVENT
BEGIN:VEVENT
DTSTART;TZID=Asia/Hong_Kong:20230430T120000
DTEND;TZID=Asia/Hong_Kong:20230430T150000
DTSTAMP:20260420T051507
CREATED:20230202T075529Z
LAST-MODIFIED:20230331T102635Z
UID:6075-1682856000-1682866800@clubfleurieu.com
SUMMARY:An Autumn Lunch… and all that Jazz
DESCRIPTION:Sunday 30 April 12 noon\n“An Autumn Lunch…and all that Jazz” \nEnjoy an alfresco two-course luncheon\, while relaxing to the unique jazz stylings of Kym Mitchell & Geoff Bromilow. Tickets $35. \nFinancial Club members will receive a $5 drink/food voucher on arrival at each show. \nAll bookings to be made through the Fleurieu Coast Visitor Centre\, in person\, by phone or online.\nVisitor Centre Address: 163 Main South Road\, Yankalilla\nPhone: 08 8558 0240 Email: cooee@visitfleurieucoast.com.au  or visit www.festivalfleurieu.com.au 
URL:https://clubfleurieu.com/event/an-autumn-lunch-and-all-that-jazz/
LOCATION:Club Fleurieu\, 140 Main South Road\, Yankalilla\, South Australia\, 5203\, Australia
CATEGORIES:Festival Fleurieu
ATTACH;FMTTYPE=image/jpeg:https://clubfleurieu.com/wp-content/uploads/2019/03/fleurieu-festival-logo.jpg
ORGANIZER;CN="Club Fleurieu":MAILTO:events@clubfleurieu.com
END:VEVENT
BEGIN:VEVENT
DTSTART;TZID=Asia/Hong_Kong:20230429T180000
DTEND;TZID=Asia/Hong_Kong:20230429T210000
DTSTAMP:20260420T051507
CREATED:20230202T075315Z
LAST-MODIFIED:20230331T102706Z
UID:6073-1682791200-1682802000@clubfleurieu.com
SUMMARY:Blues Band “Lazy Eye”
DESCRIPTION:Saturday 29 April from 6.00pm\nBlues Band “Lazy Eye” \nCatch Lazy Eye playing some of the best original blues around! Bar open 6.00pm\, band playing from 7.30pm. Snack platters can be purchased. Tickets $30. \nFinancial Club members will receive a $5 drink/food voucher on arrival at each show. \nAll bookings to be made through the Fleurieu Coast Visitor Centre\, in person\, by phone or online.\nVisitor Centre Address: 163 Main South Road\, Yankalilla\nPhone: 08 8558 0240 Email: cooee@visitfleurieucoast.com.au  or visit www.festivalfleurieu.com.au
URL:https://clubfleurieu.com/event/blues-band-lazy-eye/
LOCATION:Club Fleurieu\, 140 Main South Road\, Yankalilla\, South Australia\, 5203\, Australia
ATTACH;FMTTYPE=image/jpeg:https://clubfleurieu.com/wp-content/uploads/2019/03/fleurieu-festival-logo.jpg
ORGANIZER;CN="Club Fleurieu":MAILTO:events@clubfleurieu.com
END:VEVENT
BEGIN:VEVENT
DTSTART;TZID=Asia/Hong_Kong:20230422T190000
DTEND;TZID=Asia/Hong_Kong:20230422T220000
DTSTAMP:20260420T051507
CREATED:20230202T075015Z
LAST-MODIFIED:20230331T102740Z
UID:6071-1682190000-1682200800@clubfleurieu.com
SUMMARY:In the Mood – Swing with a Zing!!
DESCRIPTION:Saturday 22 April at 7.00pm\nUpstage Theatre presents “In the Mood – Swing with a Zing!!” \nEnjoy a light cabaret-style meal\, while being entertained by Upstage Theatre’s comedy routines\, and classic hits from the 1930s to 1990s. Tickets $40. \nFinancial Club members will receive a $5 drink/food voucher on arrival at each show. \nAll bookings to be made through the Fleurieu Coast Visitor Centre\, in person\, by phone or online.\nVisitor Centre Address: 163 Main South Road\, Yankalilla\nPhone: 08 8558 0240 Email: cooee@visitfleurieucoast.com.au  or visit www.festivalfleurieu.com.au
URL:https://clubfleurieu.com/event/in-the-mood-swing-with-a-zing/
LOCATION:Club Fleurieu\, 140 Main South Road\, Yankalilla\, South Australia\, 5203\, Australia
CATEGORIES:Festival Fleurieu
ATTACH;FMTTYPE=image/jpeg:https://clubfleurieu.com/wp-content/uploads/2019/03/fleurieu-festival-logo.jpg
ORGANIZER;CN="Club Fleurieu":MAILTO:events@clubfleurieu.com
END:VEVENT
BEGIN:VEVENT
DTSTART;TZID=Asia/Hong_Kong:20230419T120000
DTEND;TZID=Asia/Hong_Kong:20230419T140000
DTSTAMP:20260420T051507
CREATED:20230331T103057Z
LAST-MODIFIED:20230331T103057Z
UID:6121-1681905600-1681912800@clubfleurieu.com
SUMMARY:April Club Lunch
DESCRIPTION:Join us at the club on Wednesday 19 April at 12 noon for our Club Lunch. \nMain: Lasagne or Chicken Cacciatore. Dessert: Fruit Danish with cream or Fruit and Icecream. \nCost: $17 member/$22 non-member. Bookings essential for all meals. \nPlease note there will be no Happy Hour / Games Night this month\, due to the Festival.
URL:https://clubfleurieu.com/event/april-club-lunch-3/
LOCATION:Club Fleurieu\, 140 Main South Road\, Yankalilla\, South Australia\, 5203\, Australia
ATTACH;FMTTYPE=image/jpeg:https://clubfleurieu.com/wp-content/uploads/2017/07/Beef-Lasagne-1.jpeg
ORGANIZER;CN="Club Fleurieu":MAILTO:events@clubfleurieu.com
END:VEVENT
END:VCALENDAR