BEGIN:VCALENDAR
VERSION:2.0
PRODID:-//Club Fleurieu - ECPv6.15.17.1//NONSGML v1.0//EN
CALSCALE:GREGORIAN
METHOD:PUBLISH
X-WR-CALNAME:Club Fleurieu
X-ORIGINAL-URL:https://clubfleurieu.com
X-WR-CALDESC:Events for Club Fleurieu
REFRESH-INTERVAL;VALUE=DURATION:PT1H
X-Robots-Tag:noindex
X-PUBLISHED-TTL:PT1H
BEGIN:VTIMEZONE
TZID:Asia/Hong_Kong
BEGIN:STANDARD
TZOFFSETFROM:+0800
TZOFFSETTO:+0800
TZNAME:HKT
DTSTART:20210101T000000
END:STANDARD
END:VTIMEZONE
BEGIN:VEVENT
DTSTART;TZID=Asia/Hong_Kong:20230207T120000
DTEND;TZID=Asia/Hong_Kong:20230207T140000
DTSTAMP:20260421T000239
CREATED:20230106T022056Z
LAST-MODIFIED:20230106T022056Z
UID:6012-1675771200-1675778400@clubfleurieu.com
SUMMARY:February Club Barbecue
DESCRIPTION:Join us at the club for our monthly Club Barbecue on Tuesday\, February 7 at 12 noon. \nCost: $10 per person. Enjoy sausages and patties with wedges. \nNote: For September Meal Dates\, bookings are required for all meals. Special dietary needs can be accommodated with prior notice. \n 
URL:https://clubfleurieu.com/event/february-club-barbecue-3/
LOCATION:Club Fleurieu\, 140 Main South Road\, Yankalilla\, South Australia\, 5203\, Australia
ATTACH;FMTTYPE=image/jpeg:https://clubfleurieu.com/wp-content/uploads/2018/01/BBQ-lunch.jpg
ORGANIZER;CN="Club Fleurieu":MAILTO:events@clubfleurieu.com
END:VEVENT
BEGIN:VEVENT
DTSTART;TZID=Asia/Hong_Kong:20230126T123000
DTEND;TZID=Asia/Hong_Kong:20230126T140000
DTSTAMP:20260421T000239
CREATED:20221130T235242Z
LAST-MODIFIED:20230106T043738Z
UID:5972-1674736200-1674741600@clubfleurieu.com
SUMMARY:Australia Day Barbecue Lunch
DESCRIPTION:Club Fleurieu is the place to be for lunch on Australia Day! Our menu features barbecued Lamb and Seafood\, with salad buffet and assorted breads\, followed by Pavlova for dessert. \nRelax to the music of Kym Mitchell & Geoff Bromilow\, while enjoying a drink from Bjorn’s Bar. \nBookings are essential. Dress up in your best Aussie gear and head to the Club. Hope to see you for our first big event in 2023! \nCost: $30 member/$35 non-member.
URL:https://clubfleurieu.com/event/australia-day-barbecue-lunch-4/
LOCATION:Club Fleurieu\, 140 Main South Road\, Yankalilla\, South Australia\, 5203\, Australia
CATEGORIES:Events
ATTACH;FMTTYPE=image/jpeg:https://clubfleurieu.com/wp-content/uploads/2018/01/Australia-Day-Flag.jpg
ORGANIZER;CN="Club Fleurieu":MAILTO:events@clubfleurieu.com
END:VEVENT
BEGIN:VEVENT
DTSTART;TZID=Asia/Hong_Kong:20230119T130000
DTEND;TZID=Asia/Hong_Kong:20230119T150000
DTSTAMP:20260421T000239
CREATED:20230105T230632Z
LAST-MODIFIED:20230105T230632Z
UID:5998-1674133200-1674140400@clubfleurieu.com
SUMMARY:Tour Down Under 2023
DESCRIPTION:Join us to watch the Tour Down Under 2023 on Thursday\, January 19 from 12.30pm. \nThe Tour cyclists will ride through Yankalilla between 1.15pm – 1.30pm. \nJoin us in the grounds at the front of the Club from 12.30pm for a sausage sizzle & soft drink\, as we cheer on the riders! \nWe will need volunteers to help serve the food and drinks. Please let us know if you can help.
URL:https://clubfleurieu.com/event/tour-down-under-2023/
LOCATION:Club Fleurieu\, 140 Main South Road\, Yankalilla\, South Australia\, 5203\, Australia
CATEGORIES:Events
ATTACH;FMTTYPE=image/jpeg:https://clubfleurieu.com/wp-content/uploads/2023/01/club-fleurieu-tour-down-under-1.jpg
ORGANIZER;CN="Club Fleurieu":MAILTO:events@clubfleurieu.com
END:VEVENT
BEGIN:VEVENT
DTSTART;TZID=Asia/Hong_Kong:20230106T100000
DTEND;TZID=Asia/Hong_Kong:20230106T150000
DTSTAMP:20260421T000239
CREATED:20230105T231432Z
LAST-MODIFIED:20230105T231446Z
UID:6000-1672999200-1673017200@clubfleurieu.com
SUMMARY:Club Fleurieu Working Bee
DESCRIPTION:Don’t forget our Working Bee at the Club on Thursday 12 January at 10am. \nHope you can come along and help out with a few odd jobs around the clubrooms and grounds. Many hands make light work!
URL:https://clubfleurieu.com/event/club-fleurieu-working-bee/
LOCATION:Club Fleurieu\, 140 Main South Road\, Yankalilla\, South Australia\, 5203\, Australia
CATEGORIES:Working Bee
ATTACH;FMTTYPE=image/jpeg:https://clubfleurieu.com/wp-content/uploads/2017/12/fleurieucoast-club-fleurieu-rotunda-2-1.jpg
ORGANIZER;CN="Club Fleurieu":MAILTO:events@clubfleurieu.com
END:VEVENT
BEGIN:VEVENT
DTSTART;TZID=Asia/Hong_Kong:20230106T080000
DTEND;TZID=Asia/Hong_Kong:20230106T170000
DTSTAMP:20260421T000239
CREATED:20230106T043436Z
LAST-MODIFIED:20230202T074340Z
UID:6031-1672992000-1673024400@clubfleurieu.com
SUMMARY:Happy Hour and Dinner
DESCRIPTION:Join us for our Happy Hour and Dinner on Friday 10 February from 5.00pm. \nSchnitzels & Salad will be on the menu. \nCost: $20 member/$25 non-member\, $5 dessert. \nNote: For September Meal Dates\, bookings are required for all meals. Special dietary needs can be accommodated with prior notice.
URL:https://clubfleurieu.com/event/happy-hour-and-dinner-7/
LOCATION:Club Fleurieu\, 140 Main South Road\, Yankalilla\, South Australia\, 5203\, Australia
CATEGORIES:Happy Hour
ATTACH;FMTTYPE=image/jpeg:https://clubfleurieu.com/wp-content/uploads/2021/05/chicken-schnitzel-club-fleurieu.jpg
ORGANIZER;CN="Club Fleurieu":MAILTO:events@clubfleurieu.com
END:VEVENT
BEGIN:VEVENT
DTSTART;TZID=Asia/Hong_Kong:20230106T000000
DTEND;TZID=Asia/Hong_Kong:20230106T000000
DTSTAMP:20260421T000239
CREATED:20230106T034605Z
LAST-MODIFIED:20230106T034653Z
UID:6019-1672963200-1672963200@clubfleurieu.com
SUMMARY:Happy Hour and Dinner
DESCRIPTION:Join us for our Happy Hour and Dinner on Friday 10 February from 5.00pm. \nCost: $20 member/$25 non-member\, $5 dessert. \nNote: For September Meal Dates\, bookings are required for all meals. Special dietary needs can be accommodated with prior notice.
URL:https://clubfleurieu.com/event/happy-hour-and-dinner-6/
LOCATION:South Australia
ATTACH;FMTTYPE=image/jpeg:https://clubfleurieu.com/wp-content/uploads/2016/09/happy-hour.jpg
END:VEVENT
BEGIN:VEVENT
DTSTART;TZID=Asia/Hong_Kong:20221214T123000
DTEND;TZID=Asia/Hong_Kong:20221214T143000
DTSTAMP:20260421T000239
CREATED:20221130T234022Z
LAST-MODIFIED:20221130T234022Z
UID:5969-1671021000-1671028200@clubfleurieu.com
SUMMARY:Club Christmas Lunch
DESCRIPTION:Join us at the club for our Christmas Lunch on Wednesday\, 14 December 12.30pm. \nMake your booking for a sumptuous\, traditional Christmas meal! \nEntrée: Seafood Cocktail (option available)\nMain: Turkey & Ham with all the trimmings\, served with roasted/steamed vegetables\nDessert: Christmas Pudding with Brandy Custard or Trifle or Fruit Salad with Icecream \nEnjoy an early Christmas with friends. Enter our raffle for the chance to win a hamper of goodies! \nBookings Essential. $35 member\, $40 non-member.
URL:https://clubfleurieu.com/event/club-christmas-lunch-4/
LOCATION:Club Fleurieu\, 140 Main South Road\, Yankalilla\, South Australia\, 5203\, Australia
CATEGORIES:Christmas
ATTACH;FMTTYPE=image/jpeg:https://clubfleurieu.com/wp-content/uploads/2016/01/fleurieucoast-fleurieu-coast-club-fleurieu-turkey-lunch.jpg
ORGANIZER;CN="Club Fleurieu":MAILTO:events@clubfleurieu.com
END:VEVENT
BEGIN:VEVENT
DTSTART;TZID=Asia/Hong_Kong:20221127T143000
DTEND;TZID=Asia/Hong_Kong:20221127T170000
DTSTAMP:20260421T000239
CREATED:20221031T074846Z
LAST-MODIFIED:20221031T074938Z
UID:5950-1669559400-1669568400@clubfleurieu.com
SUMMARY:Festival Fleurieu Choir Concert
DESCRIPTION:Join us at the club on Sunday 27 November at 2.30pm for our Festival Fleurieu Choir Concert… “Where there is Love” \nIt’s always delightful when the Choir performs for us\, especially when one of the pieces is a composition by our very own Mark Allstrom! Adults $25\, afternoon tea included. Bjorn’s Bar will be open for drink purchases. \nBookings www.trybooking.com/CDNIP or phone 0411 189 023.
URL:https://clubfleurieu.com/event/festival-fleurieu-choir-concert/
LOCATION:Club Fleurieu\, 140 Main South Road\, Yankalilla\, South Australia\, 5203\, Australia
CATEGORIES:Christmas
ATTACH;FMTTYPE=image/jpeg:https://clubfleurieu.com/wp-content/uploads/2021/01/Christmas-2021-Choir-2-2020.jpg
ORGANIZER;CN="Club Fleurieu":MAILTO:events@clubfleurieu.com
END:VEVENT
BEGIN:VEVENT
DTSTART;TZID=Asia/Hong_Kong:20221126T090000
DTEND;TZID=Asia/Hong_Kong:20221126T150000
DTSTAMP:20260421T000239
CREATED:20221031T073611Z
LAST-MODIFIED:20221031T074434Z
UID:5940-1669453200-1669474800@clubfleurieu.com
SUMMARY:Christmas Market and Car Boot Sale
DESCRIPTION:Join us at the club on Saturday 26th November 9.00am-3.00pm for our Christmas Market and Car Boot Sale. \nBook a place to sell your crafts\, plants\, produce\, pre-loved goods or anything you like. Come along for a great day\, sell some goods or search for some treasure! Egg & Bacon Rolls\, coffee/tea and cake will be available for purchase. Mahjong will be played in the Games Room. \nCar Boot/Outside Stall $10\, Inside Stall: Members $10\, Non-members $15.
URL:https://clubfleurieu.com/event/christmas-market-car-boot-sale/
LOCATION:Club Fleurieu\, 140 Main South Road\, Yankalilla\, South Australia\, 5203\, Australia
CATEGORIES:Happy Hour
ATTACH;FMTTYPE=image/jpeg:https://clubfleurieu.com/wp-content/uploads/2022/10/christmas-market-car-boot-sale.jpg
ORGANIZER;CN="Club Fleurieu":MAILTO:events@clubfleurieu.com
END:VEVENT
BEGIN:VEVENT
DTSTART;TZID=Asia/Hong_Kong:20221116T120000
DTEND;TZID=Asia/Hong_Kong:20221116T140000
DTSTAMP:20260421T000239
CREATED:20221031T073405Z
LAST-MODIFIED:20221031T073405Z
UID:5935-1668600000-1668607200@clubfleurieu.com
SUMMARY:November Club Lunch
DESCRIPTION:Join us at the club on Wednesday 16 November at 12 noon for our Club Lunch. \nMain: Fish & Chips with salad Dessert: Fruit Salad & Icecream \nCost: $15 member/$20 non-member. Bookings essential for all meals. \nSpecial dietary needs can be catered for with prior notice.
URL:https://clubfleurieu.com/event/november-club-lunch-3/
LOCATION:Club Fleurieu\, 140 Main South Road\, Yankalilla\, South Australia\, 5203\, Australia
ATTACH;FMTTYPE=image/jpeg:https://clubfleurieu.com/wp-content/uploads/2017/07/Fresh-fish-photo.jpg
ORGANIZER;CN="Club Fleurieu":MAILTO:events@clubfleurieu.com
END:VEVENT
BEGIN:VEVENT
DTSTART;TZID=Asia/Hong_Kong:20221111T170000
DTEND;TZID=Asia/Hong_Kong:20221111T190000
DTSTAMP:20260421T000239
CREATED:20221031T073121Z
LAST-MODIFIED:20221031T073121Z
UID:5932-1668186000-1668193200@clubfleurieu.com
SUMMARY:Happy Hour and Games Night
DESCRIPTION:Join us for our Happy Hour and Games Night on Friday 11th November from 5.00pm. \nPLEASE NOTE: There will be no dinner this month\, due to Melbourne Cup Lunch.
URL:https://clubfleurieu.com/event/happy-hour-and-games-night-7/
LOCATION:Club Fleurieu\, 140 Main South Road\, Yankalilla\, South Australia\, 5203\, Australia
ATTACH;FMTTYPE=image/jpeg:https://clubfleurieu.com/wp-content/uploads/2016/09/happy-hour.jpg
ORGANIZER;CN="Club Fleurieu":MAILTO:events@clubfleurieu.com
END:VEVENT
BEGIN:VEVENT
DTSTART;TZID=Asia/Hong_Kong:20221108T120000
DTEND;TZID=Asia/Hong_Kong:20221108T133000
DTSTAMP:20260421T000239
CREATED:20221031T072727Z
LAST-MODIFIED:20221031T072727Z
UID:5928-1667908800-1667914200@clubfleurieu.com
SUMMARY:November Club Barbecue
DESCRIPTION:Join us at the club for our monthly Club Barbecue on Tuesday\, November 8th at 12 noon. \nCost: $10 per person. Enjoy sausages and patties with wedges. \nNote: For September Meal Dates\, bookings are required for all meals. Special dietary needs can be accommodated with prior notice. \n 
URL:https://clubfleurieu.com/event/november-club-barbecue-3/
LOCATION:Club Fleurieu\, 140 Main South Road\, Yankalilla\, South Australia\, 5203\, Australia
CATEGORIES:Barbecue
ATTACH;FMTTYPE=image/jpeg:https://clubfleurieu.com/wp-content/uploads/2018/01/BBQ-lunch.jpg
ORGANIZER;CN="Club Fleurieu":MAILTO:events@clubfleurieu.com
END:VEVENT
BEGIN:VEVENT
DTSTART;TZID=Asia/Hong_Kong:20221105T190000
DTEND;TZID=Asia/Hong_Kong:20221105T220000
DTSTAMP:20260421T000239
CREATED:20220708T031634Z
LAST-MODIFIED:20220708T031634Z
UID:5776-1667674800-1667685600@clubfleurieu.com
SUMMARY:Andy Seymore Performs Live
DESCRIPTION:Join us at the club to see Andy Seymore performing live on Saturday\, November 5 at 7.00pm for 7.30pm start. \n 
URL:https://clubfleurieu.com/event/andy-seymore-performs-live/
LOCATION:Club Fleurieu\, 140 Main South Road\, Yankalilla\, South Australia\, 5203\, Australia
CATEGORIES:Concerts
ATTACH;FMTTYPE=image/jpeg:https://clubfleurieu.com/wp-content/uploads/2022/07/andy-seymour.jpg
ORGANIZER;CN="Club Fleurieu":MAILTO:events@clubfleurieu.com
END:VEVENT
BEGIN:VEVENT
DTSTART;TZID=Asia/Hong_Kong:20221101T123000
DTEND;TZID=Asia/Hong_Kong:20221101T160000
DTSTAMP:20260421T000239
CREATED:20221001T222331Z
LAST-MODIFIED:20221031T071958Z
UID:5890-1667305800-1667318400@clubfleurieu.com
SUMMARY:Melbourne Cup Lunch Booked Out
DESCRIPTION:Join us the Melbourne Cup Lunch on Tuesday\, November 1 at 12.30pm. \nEnjoy a fabulous 3-course meal\, sweeps\, raffles\, and all the fun of a day at the races! Come dressed in your finest attire for our “Best on Field” Prize & share all the excitement of the “Race that Stops a Nation” on our BIG SCREEN. \nEntrée Prawn\, Mango & Avocado Cocktail (non-seafood option available). \nMains Coconut crusted Atlantic Salmon or Slow Cooked Beef & Mushrooms in Stout… both mains served with vegetables. \nDessert Medley of Sweet Treats\, followed by coffee or tea. \nCost: $35 members / $40 non-members. Bookings Essential. \nSpecial dietary needs can be accommodated with prior notice.
URL:https://clubfleurieu.com/event/melbourne-cup-lunch-6/
LOCATION:Club Fleurieu\, 140 Main South Road\, Yankalilla\, South Australia\, 5203\, Australia
ATTACH;FMTTYPE=image/jpeg:https://clubfleurieu.com/wp-content/uploads/2017/11/fleurieucoast-fleurieu-coast-adelaide-cup.jpg
ORGANIZER;CN="Club Fleurieu":MAILTO:events@clubfleurieu.com
END:VEVENT
BEGIN:VEVENT
DTSTART;TZID=Asia/Hong_Kong:20221019T120000
DTEND;TZID=Asia/Hong_Kong:20221019T140000
DTSTAMP:20260421T000239
CREATED:20221001T221143Z
LAST-MODIFIED:20221001T221143Z
UID:5882-1666180800-1666188000@clubfleurieu.com
SUMMARY:October Club Lunch
DESCRIPTION:Join us at the club on Wednesday 19 October at 12 noon for our Club Lunch “Spring into Spring!” \nMenu: Roast Lamb with assorted vegetables\, followed by Peach Cobbler or Fruit and Icecream. \nCost: $15 member/$20 non-member. Bookings essential for all meals.
URL:https://clubfleurieu.com/event/october-club-lunch-3/
LOCATION:Club Fleurieu\, 140 Main South Road\, Yankalilla\, South Australia\, 5203\, Australia
ATTACH;FMTTYPE=image/jpeg:https://clubfleurieu.com/wp-content/uploads/2016/04/fleurieucoast-fleurieu-coast-club-fleurieu-lamb.jpg
ORGANIZER;CN="Club Fleurieu":MAILTO:events@clubfleurieu.com
END:VEVENT
BEGIN:VEVENT
DTSTART;TZID=Asia/Hong_Kong:20221014T170000
DTEND;TZID=Asia/Hong_Kong:20221014T200000
DTSTAMP:20260421T000239
CREATED:20221001T215912Z
LAST-MODIFIED:20221001T215912Z
UID:5878-1665766800-1665777600@clubfleurieu.com
SUMMARY:Steak and Red Wine Dinner
DESCRIPTION:Join us at the club on Friday 14 October from 5.00pm for a delicious Steak & Red Wine Dinner. \nSavour a delicious steak barbecued to your liking\, accompanied by a jacket potato and salad\, plus a glass of red wine. \nOnly $30 per head\, $5 optional dessert.
URL:https://clubfleurieu.com/event/steak-and-red-wine-dinner-3/
LOCATION:Club Fleurieu\, 140 Main South Road\, Yankalilla\, South Australia\, 5203\, Australia
CATEGORIES:Dinner
ATTACH;FMTTYPE=image/jpeg:https://clubfleurieu.com/wp-content/uploads/2020/08/steak-and-red-wine-dinner.jpg
ORGANIZER;CN="Club Fleurieu":MAILTO:events@clubfleurieu.com
END:VEVENT
BEGIN:VEVENT
DTSTART;TZID=Asia/Hong_Kong:20221011T120000
DTEND;TZID=Asia/Hong_Kong:20221011T140000
DTSTAMP:20260421T000239
CREATED:20221001T215419Z
LAST-MODIFIED:20221001T215419Z
UID:5873-1665489600-1665496800@clubfleurieu.com
SUMMARY:October Club Barbecue
DESCRIPTION:Join us at the club for our monthly Club Barbecue on Tuesday\, October 11 at 12 noon. \nCost: $10 per person. Enjoy sausages and patties with wedges. \nNote: For September Meal Dates\, bookings are required for all meals. Special dietary needs can be accommodated with prior notice. \n 
URL:https://clubfleurieu.com/event/october-club-barbecue-2/
LOCATION:Club Fleurieu\, 140 Main South Road\, Yankalilla\, South Australia\, 5203\, Australia
CATEGORIES:Barbecue
ATTACH;FMTTYPE=image/jpeg:https://clubfleurieu.com/wp-content/uploads/2016/02/fleurieucoast-fleurieu-coast-club-fleurieu-bbq.jpg
ORGANIZER;CN="Club Fleurieu":MAILTO:events@clubfleurieu.com
END:VEVENT
BEGIN:VEVENT
DTSTART;TZID=Asia/Hong_Kong:20221008T200000
DTEND;TZID=Asia/Hong_Kong:20221008T220000
DTSTAMP:20260421T000239
CREATED:20220901T042657Z
LAST-MODIFIED:20221001T215030Z
UID:5833-1665259200-1665266400@clubfleurieu.com
SUMMARY:Crosstown Ramblers Performing Live
DESCRIPTION:Have you made your booking for Saturday 8th October when Crosstown Ramblers rock the Club? If you enjoy classic rock from the 50s to the 80s\, you won’t want to miss this event! \nOnline bookings $20 at www.trybooking.com/CBSRE \nSpecial Club member price $15. \nTickets are available at the Club\, or the Club Op Shop\, Yankalilla. \nBjorn’s Bar opens at 6.30pm and the band will play from 8.00pm. Snack platters will be available to purchase.
URL:https://clubfleurieu.com/event/crosstown-ramblers-performing-live/
LOCATION:Club Fleurieu\, 140 Main South Road\, Yankalilla\, South Australia\, 5203\, Australia
CATEGORIES:Concerts
ATTACH;FMTTYPE=image/jpeg:https://clubfleurieu.com/wp-content/uploads/2022/09/crosstown-ramblers.jpg
ORGANIZER;CN="Club Fleurieu":MAILTO:events@clubfleurieu.com
END:VEVENT
BEGIN:VEVENT
DTSTART;TZID=Asia/Hong_Kong:20221008T193000
DTEND;TZID=Asia/Hong_Kong:20221008T220000
DTSTAMP:20260421T000239
CREATED:20220708T030411Z
LAST-MODIFIED:20220708T030411Z
UID:5771-1665257400-1665266400@clubfleurieu.com
SUMMARY:Crosstown Ramblers at Club Fleurieu
DESCRIPTION:Join us at the club to see the Crosstown Ramblers perform on Saturday 8 October\, 7.30pm for 8.00pm start.
URL:https://clubfleurieu.com/event/crosstown-ramblers-at-club-fleurieu/
LOCATION:Club Fleurieu\, 140 Main South Road\, Yankalilla\, South Australia\, 5203\, Australia
CATEGORIES:Concerts
ATTACH;FMTTYPE=image/jpeg:https://clubfleurieu.com/wp-content/uploads/2022/07/crosstown-ramblers.jpeg
ORGANIZER;CN="Club Fleurieu":MAILTO:events@clubfleurieu.com
END:VEVENT
BEGIN:VEVENT
DTSTART;TZID=Asia/Hong_Kong:20221002T080000
DTEND;TZID=Asia/Hong_Kong:20221002T170000
DTSTAMP:20260421T000239
CREATED:20221001T223623Z
LAST-MODIFIED:20221001T223650Z
UID:5898-1664697600-1664730000@clubfleurieu.com
SUMMARY:Andy Seymour American Songbook
DESCRIPTION:Join us at the club for another live music event coming in November\, ANDY SEYMOUR “American Songbook” on Saturday 5th November at 7.30pm. \nMake your booking to enjoy an evening with Andy Seymour\, as he performs songs that we grew up with\, and shares amazing anecdotes! \nOnline bookings $25\, link www.trybooking.com/CBSRI \nSpecial Member price $20\, tickets available at the Club and Club Op Shop\, Yankalilla. Bjorn’s Bar open at 6pm. \nSnack platters available to purchase.
URL:https://clubfleurieu.com/event/andy-seymour-american-songbook/
LOCATION:South Australia
CATEGORIES:Events
ATTACH;FMTTYPE=image/jpeg:https://clubfleurieu.com/wp-content/uploads/2022/07/andy-seymour.jpg
END:VEVENT
BEGIN:VEVENT
DTSTART;TZID=Asia/Hong_Kong:20221002T080000
DTEND;TZID=Asia/Hong_Kong:20221002T170000
DTSTAMP:20260421T000239
CREATED:20221001T221525Z
LAST-MODIFIED:20221001T221525Z
UID:5888-1664697600-1664730000@clubfleurieu.com
SUMMARY:Halloween October Happy Hour
DESCRIPTION:Join us at the Club on Friday 28 October from 5.00pm for our monthly Happy Hour and Games Night. \nThis month\, join in the fun with a HALLOWEEN THEME… come dressed to SCARE!! \nSip on a devilish brew from “Bjorn’s Beastly Bar”and try our Spooky Snacks if you dare!! \nAll welcome\, no bookings required.
URL:https://clubfleurieu.com/event/halloween-october-happy-hour-2/
LOCATION:South Australia
CATEGORIES:Happy Hour
ATTACH;FMTTYPE=image/jpeg:https://clubfleurieu.com/wp-content/uploads/2021/10/club-fleurieu-halloween.jpg
END:VEVENT
BEGIN:VEVENT
DTSTART;TZID=Asia/Hong_Kong:20220930T190000
DTEND;TZID=Asia/Hong_Kong:20220930T220000
DTSTAMP:20260421T000239
CREATED:20210803T105932Z
LAST-MODIFIED:20220927T045536Z
UID:5266-1664564400-1664575200@clubfleurieu.com
SUMMARY:Quiz Night 2022
DESCRIPTION:Join us for  our Quiz Night on Friday September 30 at 7.00pm for 7.30pm start  \nDon’t forget to book your table (max 8 people) or we can arrange for you to join a table. \nPlease BYO supper\, but no BYO alcohol as Bjorn’s Bar will be open for drink purchases.  \nProceeds to Sea Rescue. \nBYO supper. The bar will be open for purchase of drinks. Hope to see you!
URL:https://clubfleurieu.com/event/quiz-night-2022/
LOCATION:Club Fleurieu\, 140 Main South Road\, Yankalilla\, South Australia\, 5203\, Australia
CATEGORIES:Quiz Night
ATTACH;FMTTYPE=image/jpeg:https://clubfleurieu.com/wp-content/uploads/2017/07/club-fleurieu-coast-quiz-night.jpg
ORGANIZER;CN="Club Fleurieu":MAILTO:events@clubfleurieu.com
END:VEVENT
BEGIN:VEVENT
DTSTART;TZID=Asia/Hong_Kong:20220921T120000
DTEND;TZID=Asia/Hong_Kong:20220921T140000
DTSTAMP:20260421T000239
CREATED:20220901T043701Z
LAST-MODIFIED:20220901T043836Z
UID:5837-1663761600-1663768800@clubfleurieu.com
SUMMARY:September Club Lunch
DESCRIPTION:Join us at the club for our monthly lunch on Wednesday\, September 21 at 12 noon. This month we have a Father’s Day theme to celebrate our wonderful fathers and grandfathers! \nEnjoy Shepherd’s Pie\, followed by Bread & Butter Pudding or Fruit & Icecream \nCost: $15 members\, $20 non-members. \nNote: For September Meal Dates\, bookings are required for all meals. Special dietary needs can be accommodated with prior notice.
URL:https://clubfleurieu.com/event/september-club-lunch-3/
LOCATION:Club Fleurieu\, 140 Main South Road\, Yankalilla\, South Australia\, 5203\, Australia
CATEGORIES:Lunch
ATTACH;FMTTYPE=image/jpeg:https://clubfleurieu.com/wp-content/uploads/2022/09/shepherds-pie-1.jpeg
ORGANIZER;CN="Club Fleurieu":MAILTO:events@clubfleurieu.com
END:VEVENT
BEGIN:VEVENT
DTSTART;TZID=Asia/Hong_Kong:20220913T120000
DTEND;TZID=Asia/Hong_Kong:20220913T140000
DTSTAMP:20260421T000239
CREATED:20220901T044555Z
LAST-MODIFIED:20220901T044555Z
UID:5854-1663070400-1663077600@clubfleurieu.com
SUMMARY:September Club Barbecue
DESCRIPTION:Join us at the club for our monthly Club Barbecue on Tuesday 13 September at 12 noon. \nCost: $10 per person. Enjoy sausages and patties with wedges. \nNote: For September Meal Dates\, bookings are required for all meals. Special dietary needs can be accommodated with prior notice. \n 
URL:https://clubfleurieu.com/event/september-club-barbecue-3/
LOCATION:Club Fleurieu\, 140 Main South Road\, Yankalilla\, South Australia\, 5203\, Australia
CATEGORIES:Barbecue
ATTACH;FMTTYPE=image/jpeg:https://clubfleurieu.com/wp-content/uploads/2018/01/BBQ-lunch.jpg
ORGANIZER;CN="Club Fleurieu":MAILTO:events@clubfleurieu.com
END:VEVENT
BEGIN:VEVENT
DTSTART;TZID=Asia/Hong_Kong:20220909T170000
DTEND;TZID=Asia/Hong_Kong:20220909T190000
DTSTAMP:20260421T000239
CREATED:20220901T044119Z
LAST-MODIFIED:20220901T044231Z
UID:5849-1662742800-1662750000@clubfleurieu.com
SUMMARY:Happy Hour and Dinner
DESCRIPTION:Join us for our Happy Hour and Dinner on Friday 9 September from 5.00pm. \nMenu: Coconut crumbed Salmon with Hasselback potato and Green Bean salad \nCost: $20 member/$25 non-member\, $5 dessert. \nNote: For September Meal Dates\, bookings are required for all meals. Special dietary needs can be accommodated with prior notice.
URL:https://clubfleurieu.com/event/happy-hour-and-dinner-5/
LOCATION:Club Fleurieu\, 140 Main South Road\, Yankalilla\, South Australia\, 5203\, Australia
CATEGORIES:Happy Hour
ATTACH;FMTTYPE=image/jpeg:https://clubfleurieu.com/wp-content/uploads/2020/09/14508.jpg
ORGANIZER;CN="Club Fleurieu":MAILTO:events@clubfleurieu.com
END:VEVENT
BEGIN:VEVENT
DTSTART;TZID=Asia/Hong_Kong:20220903T150000
DTEND;TZID=Asia/Hong_Kong:20220903T170000
DTSTAMP:20260421T000239
CREATED:20220801T062728Z
LAST-MODIFIED:20220801T081926Z
UID:5787-1662217200-1662224400@clubfleurieu.com
SUMMARY:Annual General Meeting 2022
DESCRIPTION:Join us for our Club Annual General Meeting on Saturday 3 September at 3.00pm. \nEvery Club member will soon receive a written or emailed invitation to our AGM. An agenda and other information will be included. All Committee positions become vacant this year and currently no nominations have been received for Club Secretary. \nNominations for committee positions open from Wednesday 10/8/22 to 2pm Tuesday\n23/8/22. Some other non-committee roles will also be discussed at the AGM\, such as Volunteer Coordinator and Activity Coordinator. \nPlease RSVP for the AGM by phone/email or by adding your name to the attendance or apologies registers at the Club. Everyone is welcome to attend\, but voting will be restricted to Life Members and financial members for 2022-2023. \nAfternoon tea will follow the meeting and Bjorn’s Bar will be open for purchase of drinks.
URL:https://clubfleurieu.com/event/annual-general-meeting-2022/
LOCATION:Club Fleurieu\, 140 Main South Road\, Yankalilla\, South Australia\, 5203\, Australia
CATEGORIES:Annual General Meeting
ATTACH;FMTTYPE=image/jpeg:https://clubfleurieu.com/wp-content/uploads/2022/08/AGM-Graphic-2022.jpg
ORGANIZER;CN="Club Fleurieu":MAILTO:events@clubfleurieu.com
END:VEVENT
BEGIN:VEVENT
DTSTART;TZID=Asia/Hong_Kong:20220826T193000
DTEND;TZID=Asia/Hong_Kong:20220826T220000
DTSTAMP:20260421T000239
CREATED:20220801T083507Z
LAST-MODIFIED:20220801T083507Z
UID:5805-1661542200-1661551200@clubfleurieu.com
SUMMARY:The River Rats Return
DESCRIPTION:Join us at the club on Friday 26 August 7.30pm… The RIVER RATS return!  \nThe Rats are back at the Club for another fantastic evening of classic rhythm & blues. \nOnline Bookings via link https://www.trybooking.com/CATJG \nOR Buy tickets from the Club or the Op Shop. \nBar open from 6.00pm. Snack platters available to purchase.
URL:https://clubfleurieu.com/event/the-river-rats-return/
LOCATION:Club Fleurieu\, 140 Main South Road\, Yankalilla\, South Australia\, 5203\, Australia
CATEGORIES:Concerts
ATTACH;FMTTYPE=image/jpeg:https://clubfleurieu.com/wp-content/uploads/2022/04/club-fleurieu-river-rats-1.jpg
ORGANIZER;CN="Club Fleurieu":MAILTO:events@clubfleurieu.com
END:VEVENT
BEGIN:VEVENT
DTSTART;TZID=Asia/Hong_Kong:20220826T070000
DTEND;TZID=Asia/Hong_Kong:20220826T220000
DTSTAMP:20260421T000239
CREATED:20220708T023657Z
LAST-MODIFIED:20220708T023657Z
UID:5765-1661497200-1661551200@clubfleurieu.com
SUMMARY:River Rats Return
DESCRIPTION:The infamous River Rats return to Club Fleurieu on August 26 at 7pm for 7.30pm start.
URL:https://clubfleurieu.com/event/river-rats-return/
LOCATION:Club Fleurieu\, 140 Main South Road\, Yankalilla\, South Australia\, 5203\, Australia
CATEGORIES:Concerts
ATTACH;FMTTYPE=image/jpeg:https://clubfleurieu.com/wp-content/uploads/2022/04/257430381_452096669678154_986826001328964035_n.jpg
ORGANIZER;CN="Club Fleurieu":MAILTO:events@clubfleurieu.com
END:VEVENT
BEGIN:VEVENT
DTSTART;TZID=Asia/Hong_Kong:20220817T120000
DTEND;TZID=Asia/Hong_Kong:20220817T140000
DTSTAMP:20260421T000239
CREATED:20220801T082918Z
LAST-MODIFIED:20220801T082918Z
UID:5802-1660737600-1660744800@clubfleurieu.com
SUMMARY:August Club Lunch
DESCRIPTION:Join us at the Club on Wednesday 17 August at 12 noon for our monthly Club Lunch. \nThis month our catering team have decided to warm everyone up\, with a Soup and Main Course menu. \nMenu: Enjoy Pumpkin Soup\, following by Beef Stroganoff. \n$15 members\, $20 non-members.
URL:https://clubfleurieu.com/event/august-club-lunch-2/
LOCATION:Club Fleurieu\, 140 Main South Road\, Yankalilla\, South Australia\, 5203\, Australia
CATEGORIES:Lunch
ATTACH;FMTTYPE=image/jpeg:https://clubfleurieu.com/wp-content/uploads/2019/06/Beef_Stroganoff.jpg
ORGANIZER;CN="Club Fleurieu":MAILTO:events@clubfleurieu.com
END:VEVENT
BEGIN:VEVENT
DTSTART;TZID=Asia/Hong_Kong:20220812T170000
DTEND;TZID=Asia/Hong_Kong:20220812T190000
DTSTAMP:20260421T000239
CREATED:20220801T082544Z
LAST-MODIFIED:20220801T082544Z
UID:5799-1660323600-1660330800@clubfleurieu.com
SUMMARY:Happy Hour and Dinner
DESCRIPTION:Join us for Happy Hour with Dinner on Friday 12 August from 5.00pm. \nMenu: Schnitzels with Wedges and Salad. \nCost: $20 member/$25 non-member\, $5 dessert.
URL:https://clubfleurieu.com/event/happy-hour-and-dinner-4/
LOCATION:Club Fleurieu\, 140 Main South Road\, Yankalilla\, South Australia\, 5203\, Australia
ATTACH;FMTTYPE=image/jpeg:https://clubfleurieu.com/wp-content/uploads/2021/05/chicken-schnitzel-club-fleurieu.jpg
ORGANIZER;CN="Club Fleurieu":MAILTO:events@clubfleurieu.com
END:VEVENT
END:VCALENDAR