BEGIN:VCALENDAR
VERSION:2.0
PRODID:-//Club Fleurieu - ECPv6.15.17.1//NONSGML v1.0//EN
CALSCALE:GREGORIAN
METHOD:PUBLISH
X-WR-CALNAME:Club Fleurieu
X-ORIGINAL-URL:https://clubfleurieu.com
X-WR-CALDESC:Events for Club Fleurieu
REFRESH-INTERVAL;VALUE=DURATION:PT1H
X-Robots-Tag:noindex
X-PUBLISHED-TTL:PT1H
BEGIN:VTIMEZONE
TZID:Asia/Hong_Kong
BEGIN:STANDARD
TZOFFSETFROM:+0800
TZOFFSETTO:+0800
TZNAME:HKT
DTSTART:20210101T000000
END:STANDARD
END:VTIMEZONE
BEGIN:VEVENT
DTSTART;TZID=Asia/Hong_Kong:20221002T080000
DTEND;TZID=Asia/Hong_Kong:20221002T170000
DTSTAMP:20260421T032212
CREATED:20221001T221525Z
LAST-MODIFIED:20221001T221525Z
UID:5888-1664697600-1664730000@clubfleurieu.com
SUMMARY:Halloween October Happy Hour
DESCRIPTION:Join us at the Club on Friday 28 October from 5.00pm for our monthly Happy Hour and Games Night. \nThis month\, join in the fun with a HALLOWEEN THEME… come dressed to SCARE!! \nSip on a devilish brew from “Bjorn’s Beastly Bar”and try our Spooky Snacks if you dare!! \nAll welcome\, no bookings required.
URL:https://clubfleurieu.com/event/halloween-october-happy-hour-2/
LOCATION:South Australia
CATEGORIES:Happy Hour
ATTACH;FMTTYPE=image/jpeg:https://clubfleurieu.com/wp-content/uploads/2021/10/club-fleurieu-halloween.jpg
END:VEVENT
BEGIN:VEVENT
DTSTART;TZID=Asia/Hong_Kong:20220930T190000
DTEND;TZID=Asia/Hong_Kong:20220930T220000
DTSTAMP:20260421T032212
CREATED:20210803T105932Z
LAST-MODIFIED:20220927T045536Z
UID:5266-1664564400-1664575200@clubfleurieu.com
SUMMARY:Quiz Night 2022
DESCRIPTION:Join us for  our Quiz Night on Friday September 30 at 7.00pm for 7.30pm start  \nDon’t forget to book your table (max 8 people) or we can arrange for you to join a table. \nPlease BYO supper\, but no BYO alcohol as Bjorn’s Bar will be open for drink purchases.  \nProceeds to Sea Rescue. \nBYO supper. The bar will be open for purchase of drinks. Hope to see you!
URL:https://clubfleurieu.com/event/quiz-night-2022/
LOCATION:Club Fleurieu\, 140 Main South Road\, Yankalilla\, South Australia\, 5203\, Australia
CATEGORIES:Quiz Night
ATTACH;FMTTYPE=image/jpeg:https://clubfleurieu.com/wp-content/uploads/2017/07/club-fleurieu-coast-quiz-night.jpg
ORGANIZER;CN="Club Fleurieu":MAILTO:events@clubfleurieu.com
END:VEVENT
BEGIN:VEVENT
DTSTART;TZID=Asia/Hong_Kong:20220921T120000
DTEND;TZID=Asia/Hong_Kong:20220921T140000
DTSTAMP:20260421T032212
CREATED:20220901T043701Z
LAST-MODIFIED:20220901T043836Z
UID:5837-1663761600-1663768800@clubfleurieu.com
SUMMARY:September Club Lunch
DESCRIPTION:Join us at the club for our monthly lunch on Wednesday\, September 21 at 12 noon. This month we have a Father’s Day theme to celebrate our wonderful fathers and grandfathers! \nEnjoy Shepherd’s Pie\, followed by Bread & Butter Pudding or Fruit & Icecream \nCost: $15 members\, $20 non-members. \nNote: For September Meal Dates\, bookings are required for all meals. Special dietary needs can be accommodated with prior notice.
URL:https://clubfleurieu.com/event/september-club-lunch-3/
LOCATION:Club Fleurieu\, 140 Main South Road\, Yankalilla\, South Australia\, 5203\, Australia
CATEGORIES:Lunch
ATTACH;FMTTYPE=image/jpeg:https://clubfleurieu.com/wp-content/uploads/2022/09/shepherds-pie-1.jpeg
ORGANIZER;CN="Club Fleurieu":MAILTO:events@clubfleurieu.com
END:VEVENT
BEGIN:VEVENT
DTSTART;TZID=Asia/Hong_Kong:20220913T120000
DTEND;TZID=Asia/Hong_Kong:20220913T140000
DTSTAMP:20260421T032212
CREATED:20220901T044555Z
LAST-MODIFIED:20220901T044555Z
UID:5854-1663070400-1663077600@clubfleurieu.com
SUMMARY:September Club Barbecue
DESCRIPTION:Join us at the club for our monthly Club Barbecue on Tuesday 13 September at 12 noon. \nCost: $10 per person. Enjoy sausages and patties with wedges. \nNote: For September Meal Dates\, bookings are required for all meals. Special dietary needs can be accommodated with prior notice. \n 
URL:https://clubfleurieu.com/event/september-club-barbecue-3/
LOCATION:Club Fleurieu\, 140 Main South Road\, Yankalilla\, South Australia\, 5203\, Australia
CATEGORIES:Barbecue
ATTACH;FMTTYPE=image/jpeg:https://clubfleurieu.com/wp-content/uploads/2018/01/BBQ-lunch.jpg
ORGANIZER;CN="Club Fleurieu":MAILTO:events@clubfleurieu.com
END:VEVENT
BEGIN:VEVENT
DTSTART;TZID=Asia/Hong_Kong:20220909T170000
DTEND;TZID=Asia/Hong_Kong:20220909T190000
DTSTAMP:20260421T032212
CREATED:20220901T044119Z
LAST-MODIFIED:20220901T044231Z
UID:5849-1662742800-1662750000@clubfleurieu.com
SUMMARY:Happy Hour and Dinner
DESCRIPTION:Join us for our Happy Hour and Dinner on Friday 9 September from 5.00pm. \nMenu: Coconut crumbed Salmon with Hasselback potato and Green Bean salad \nCost: $20 member/$25 non-member\, $5 dessert. \nNote: For September Meal Dates\, bookings are required for all meals. Special dietary needs can be accommodated with prior notice.
URL:https://clubfleurieu.com/event/happy-hour-and-dinner-5/
LOCATION:Club Fleurieu\, 140 Main South Road\, Yankalilla\, South Australia\, 5203\, Australia
CATEGORIES:Happy Hour
ATTACH;FMTTYPE=image/jpeg:https://clubfleurieu.com/wp-content/uploads/2020/09/14508.jpg
ORGANIZER;CN="Club Fleurieu":MAILTO:events@clubfleurieu.com
END:VEVENT
BEGIN:VEVENT
DTSTART;TZID=Asia/Hong_Kong:20220903T150000
DTEND;TZID=Asia/Hong_Kong:20220903T170000
DTSTAMP:20260421T032212
CREATED:20220801T062728Z
LAST-MODIFIED:20220801T081926Z
UID:5787-1662217200-1662224400@clubfleurieu.com
SUMMARY:Annual General Meeting 2022
DESCRIPTION:Join us for our Club Annual General Meeting on Saturday 3 September at 3.00pm. \nEvery Club member will soon receive a written or emailed invitation to our AGM. An agenda and other information will be included. All Committee positions become vacant this year and currently no nominations have been received for Club Secretary. \nNominations for committee positions open from Wednesday 10/8/22 to 2pm Tuesday\n23/8/22. Some other non-committee roles will also be discussed at the AGM\, such as Volunteer Coordinator and Activity Coordinator. \nPlease RSVP for the AGM by phone/email or by adding your name to the attendance or apologies registers at the Club. Everyone is welcome to attend\, but voting will be restricted to Life Members and financial members for 2022-2023. \nAfternoon tea will follow the meeting and Bjorn’s Bar will be open for purchase of drinks.
URL:https://clubfleurieu.com/event/annual-general-meeting-2022/
LOCATION:Club Fleurieu\, 140 Main South Road\, Yankalilla\, South Australia\, 5203\, Australia
CATEGORIES:Annual General Meeting
ATTACH;FMTTYPE=image/jpeg:https://clubfleurieu.com/wp-content/uploads/2022/08/AGM-Graphic-2022.jpg
ORGANIZER;CN="Club Fleurieu":MAILTO:events@clubfleurieu.com
END:VEVENT
BEGIN:VEVENT
DTSTART;TZID=Asia/Hong_Kong:20220826T193000
DTEND;TZID=Asia/Hong_Kong:20220826T220000
DTSTAMP:20260421T032212
CREATED:20220801T083507Z
LAST-MODIFIED:20220801T083507Z
UID:5805-1661542200-1661551200@clubfleurieu.com
SUMMARY:The River Rats Return
DESCRIPTION:Join us at the club on Friday 26 August 7.30pm… The RIVER RATS return!  \nThe Rats are back at the Club for another fantastic evening of classic rhythm & blues. \nOnline Bookings via link https://www.trybooking.com/CATJG \nOR Buy tickets from the Club or the Op Shop. \nBar open from 6.00pm. Snack platters available to purchase.
URL:https://clubfleurieu.com/event/the-river-rats-return/
LOCATION:Club Fleurieu\, 140 Main South Road\, Yankalilla\, South Australia\, 5203\, Australia
CATEGORIES:Concerts
ATTACH;FMTTYPE=image/jpeg:https://clubfleurieu.com/wp-content/uploads/2022/04/club-fleurieu-river-rats-1.jpg
ORGANIZER;CN="Club Fleurieu":MAILTO:events@clubfleurieu.com
END:VEVENT
BEGIN:VEVENT
DTSTART;TZID=Asia/Hong_Kong:20220826T070000
DTEND;TZID=Asia/Hong_Kong:20220826T220000
DTSTAMP:20260421T032212
CREATED:20220708T023657Z
LAST-MODIFIED:20220708T023657Z
UID:5765-1661497200-1661551200@clubfleurieu.com
SUMMARY:River Rats Return
DESCRIPTION:The infamous River Rats return to Club Fleurieu on August 26 at 7pm for 7.30pm start.
URL:https://clubfleurieu.com/event/river-rats-return/
LOCATION:Club Fleurieu\, 140 Main South Road\, Yankalilla\, South Australia\, 5203\, Australia
CATEGORIES:Concerts
ATTACH;FMTTYPE=image/jpeg:https://clubfleurieu.com/wp-content/uploads/2022/04/257430381_452096669678154_986826001328964035_n.jpg
ORGANIZER;CN="Club Fleurieu":MAILTO:events@clubfleurieu.com
END:VEVENT
BEGIN:VEVENT
DTSTART;TZID=Asia/Hong_Kong:20220817T120000
DTEND;TZID=Asia/Hong_Kong:20220817T140000
DTSTAMP:20260421T032212
CREATED:20220801T082918Z
LAST-MODIFIED:20220801T082918Z
UID:5802-1660737600-1660744800@clubfleurieu.com
SUMMARY:August Club Lunch
DESCRIPTION:Join us at the Club on Wednesday 17 August at 12 noon for our monthly Club Lunch. \nThis month our catering team have decided to warm everyone up\, with a Soup and Main Course menu. \nMenu: Enjoy Pumpkin Soup\, following by Beef Stroganoff. \n$15 members\, $20 non-members.
URL:https://clubfleurieu.com/event/august-club-lunch-2/
LOCATION:Club Fleurieu\, 140 Main South Road\, Yankalilla\, South Australia\, 5203\, Australia
CATEGORIES:Lunch
ATTACH;FMTTYPE=image/jpeg:https://clubfleurieu.com/wp-content/uploads/2019/06/Beef_Stroganoff.jpg
ORGANIZER;CN="Club Fleurieu":MAILTO:events@clubfleurieu.com
END:VEVENT
BEGIN:VEVENT
DTSTART;TZID=Asia/Hong_Kong:20220812T170000
DTEND;TZID=Asia/Hong_Kong:20220812T190000
DTSTAMP:20260421T032212
CREATED:20220801T082544Z
LAST-MODIFIED:20220801T082544Z
UID:5799-1660323600-1660330800@clubfleurieu.com
SUMMARY:Happy Hour and Dinner
DESCRIPTION:Join us for Happy Hour with Dinner on Friday 12 August from 5.00pm. \nMenu: Schnitzels with Wedges and Salad. \nCost: $20 member/$25 non-member\, $5 dessert.
URL:https://clubfleurieu.com/event/happy-hour-and-dinner-4/
LOCATION:Club Fleurieu\, 140 Main South Road\, Yankalilla\, South Australia\, 5203\, Australia
ATTACH;FMTTYPE=image/jpeg:https://clubfleurieu.com/wp-content/uploads/2021/05/chicken-schnitzel-club-fleurieu.jpg
ORGANIZER;CN="Club Fleurieu":MAILTO:events@clubfleurieu.com
END:VEVENT
BEGIN:VEVENT
DTSTART;TZID=Asia/Hong_Kong:20220809T120000
DTEND;TZID=Asia/Hong_Kong:20220809T133000
DTSTAMP:20260421T032212
CREATED:20220801T082256Z
LAST-MODIFIED:20220801T082256Z
UID:5795-1660046400-1660051800@clubfleurieu.com
SUMMARY:August Club Barbecue
DESCRIPTION:Join us for our Club Barbecue on Tuesday 9 July at 12 noon. \nChicken Burgers will be on the menu. Cost is $10 per person.
URL:https://clubfleurieu.com/event/august-club-barbecue-3/
LOCATION:Club Fleurieu\, 140 Main South Road\, Yankalilla\, South Australia\, 5203\, Australia
ATTACH;FMTTYPE=image/jpeg:https://clubfleurieu.com/wp-content/uploads/2018/01/BBQ-lunch.jpg
ORGANIZER;CN="Club Fleurieu":MAILTO:events@clubfleurieu.com
END:VEVENT
BEGIN:VEVENT
DTSTART;TZID=Asia/Hong_Kong:20220730T190000
DTEND;TZID=Asia/Hong_Kong:20220730T220000
DTSTAMP:20260421T032212
CREATED:20220707T083404Z
LAST-MODIFIED:20220707T083404Z
UID:5748-1659207600-1659218400@clubfleurieu.com
SUMMARY:In the Mood…Swing with a Zing!
DESCRIPTION:Join us at the club on Saturday 30 July where Upstage Theatre presents… “In the Mood…Swing with a Zing!” \nThe night kicks off at 7.00pm for a 7.30pm start. Don’t miss a fabulous evening when Upstage turns back the clock to the good times\, with comedy routines and back-to-back classic hits from the 1930s to 1990s! \nSing along to Frank Sinatra\, Michael Bublé\, Robbie Williams and many more. Enjoy a trip down memory lane and lots of laughs! \nTickets only $15 each • BYO Supper • Dress up in style! \nNo BYO alcohol. Bjorn’s Bar will be open for drink purchases. \nTickets available at Club Fleurieu and Club Op Shop in Yankalilla.
URL:https://clubfleurieu.com/event/in-the-moodswing-with-a-zing/
LOCATION:Club Fleurieu\, 140 Main South Road\, Yankalilla\, South Australia\, 5203\, Australia
CATEGORIES:Events
ATTACH;FMTTYPE=image/jpeg:https://clubfleurieu.com/wp-content/uploads/2022/07/wikipedia-photo.jpg
ORGANIZER;CN="Club Fleurieu":MAILTO:events@clubfleurieu.com
END:VEVENT
BEGIN:VEVENT
DTSTART;TZID=Asia/Hong_Kong:20220716T160000
DTEND;TZID=Asia/Hong_Kong:20220716T180000
DTSTAMP:20260421T032212
CREATED:20220707T094218Z
LAST-MODIFIED:20220707T094218Z
UID:5759-1657987200-1657994400@clubfleurieu.com
SUMMARY:Club Planning Afternoon
DESCRIPTION:Join us at the club on Saturday 16 July at 4.00pm for our Club Planning Afternoon. \nCome along with your ideas for the future direction of our Club. Don’t miss this meeting if there are any activities or events that you have in mind\, or any other suggestions you’d like to make! \nNibbles will follow the meeting at 5.30 pm and the bar will be open for purchase of drinks. \nALL WELCOME!
URL:https://clubfleurieu.com/event/club-planning-afternoon/
LOCATION:Club Fleurieu\, 140 Main South Road\, Yankalilla\, South Australia\, 5203\, Australia
CATEGORIES:Events
ATTACH;FMTTYPE=image/jpeg:https://clubfleurieu.com/wp-content/uploads/2022/07/club-planning-day-1.jpg
ORGANIZER;CN="Club Fleurieu":MAILTO:events@clubfleurieu.com
END:VEVENT
BEGIN:VEVENT
DTSTART;TZID=Asia/Hong_Kong:20220712T120000
DTEND;TZID=Asia/Hong_Kong:20220712T140000
DTSTAMP:20260421T032212
CREATED:20220707T091128Z
LAST-MODIFIED:20220707T091158Z
UID:5754-1657627200-1657634400@clubfleurieu.com
SUMMARY:July Club Barbecue
DESCRIPTION:Join us for our Club Barbecue on Tuesday 12 July at 12 noon. \nCost is $10 per person.
URL:https://clubfleurieu.com/event/july-club-barbecue-3/
LOCATION:Club Fleurieu\, 140 Main South Road\, Yankalilla\, South Australia\, 5203\, Australia
CATEGORIES:Barbecue
ATTACH;FMTTYPE=image/jpeg:https://clubfleurieu.com/wp-content/uploads/2018/01/BBQ-lunch.jpg
ORGANIZER;CN="Club Fleurieu":MAILTO:events@clubfleurieu.com
END:VEVENT
BEGIN:VEVENT
DTSTART;TZID=Asia/Hong_Kong:20220708T170000
DTEND;TZID=Asia/Hong_Kong:20220708T190000
DTSTAMP:20260421T032212
CREATED:20220707T083843Z
LAST-MODIFIED:20220707T090725Z
UID:5751-1657299600-1657306800@clubfleurieu.com
SUMMARY:Happy Hour with Dinner
DESCRIPTION:Join us for our Happy Hour with Dinner on Friday 8 July from 5.00pm. \nMenu: Fish with Wedges and Salad. \nPrice: $20 member/$25 non-member\, $5 dessert
URL:https://clubfleurieu.com/event/happy-hour-with-dinner-6/
LOCATION:Club Fleurieu\, 140 Main South Road\, Yankalilla\, South Australia\, 5203\, Australia
CATEGORIES:Happy Hour
ATTACH;FMTTYPE=image/jpeg:https://clubfleurieu.com/wp-content/uploads/2017/07/Fresh-fish-photo.jpg
ORGANIZER;CN="Club Fleurieu":MAILTO:events@clubfleurieu.com
END:VEVENT
BEGIN:VEVENT
DTSTART;TZID=Asia/Hong_Kong:20220624T170000
DTEND;TZID=Asia/Hong_Kong:20220624T183000
DTSTAMP:20260421T032212
CREATED:20220602T025517Z
LAST-MODIFIED:20220602T033254Z
UID:5703-1656090000-1656095400@clubfleurieu.com
SUMMARY:Happy Hour and Games Night
DESCRIPTION:Join us for our Happy Hour and Games night on Friday 24 June from 5.00pm \nThis month’s “bar snacks” will be soup and crusty bread to keep everyone warm. The Games Room will be all set up so come along and enjoy some quality time with friends!
URL:https://clubfleurieu.com/event/happy-hour-and-games-night-6/
LOCATION:South Australia
CATEGORIES:Happy Hour
ATTACH;FMTTYPE=image/jpeg:https://clubfleurieu.com/wp-content/uploads/2021/12/club-fleurieu-pool-photo.jpg
ORGANIZER;CN="Club Fleurieu":MAILTO:events@clubfleurieu.com
END:VEVENT
BEGIN:VEVENT
DTSTART;TZID=Asia/Hong_Kong:20220615T120000
DTEND;TZID=Asia/Hong_Kong:20220615T143000
DTSTAMP:20260421T032212
CREATED:20220602T031941Z
LAST-MODIFIED:20220602T031941Z
UID:5706-1655294400-1655303400@clubfleurieu.com
SUMMARY:June Club Lunch
DESCRIPTION:Join us at the Club on Wednesday 15 June 12 noon for our monthly Club Lunch. \nMain Course: Fish & Chips $15 or Barramundi $20 \nBoth mains served with salad. \nDessert: Apple Crumble with Custard or Fruit & Icecream
URL:https://clubfleurieu.com/event/june-club-lunch-3/
LOCATION:South Australia
CATEGORIES:Lunch
ATTACH;FMTTYPE=image/jpeg:https://clubfleurieu.com/wp-content/uploads/2017/11/Fresh-fish-photo-900x582.jpg
ORGANIZER;CN="Club Fleurieu":MAILTO:events@clubfleurieu.com
END:VEVENT
BEGIN:VEVENT
DTSTART;TZID=Asia/Hong_Kong:20220610T170000
DTEND;TZID=Asia/Hong_Kong:20220610T190000
DTSTAMP:20260421T032212
CREATED:20220602T033042Z
LAST-MODIFIED:20220602T033140Z
UID:5709-1654880400-1654887600@clubfleurieu.com
SUMMARY:Happy Hour and Dinner
DESCRIPTION:Join us at the club for this month’s Happy Hour and Dinner on Friday June 10 from 5.00pm. \nMenu: Schnitzel with Parmi or Prawns. \nCost: $20 members\, $25 non-members\, $5 dessert. \nBookings are essential if you’re staying for the meal. Otherwise feel free to drop in for a drink or two from Bjorn’s Bar!
URL:https://clubfleurieu.com/event/happy-hour-and-dinner-3/
LOCATION:South Australia
CATEGORIES:Happy Hour
ATTACH;FMTTYPE=image/jpeg:https://clubfleurieu.com/wp-content/uploads/2021/05/chicken-schnitzel-club-fleurieu.jpg
ORGANIZER;CN="Club Fleurieu":MAILTO:events@clubfleurieu.com
END:VEVENT
BEGIN:VEVENT
DTSTART;TZID=Asia/Hong_Kong:20220607T120000
DTEND;TZID=Asia/Hong_Kong:20220607T143000
DTSTAMP:20260421T032212
CREATED:20220602T024927Z
LAST-MODIFIED:20220602T024927Z
UID:5700-1654603200-1654612200@clubfleurieu.com
SUMMARY:June Club Barbecue
DESCRIPTION:Join us for our Club Barbecue for the year on Tuesday June 7 at 12 noon. \nEnjoy a great value casual meal\, a drink from the bar and coffee or tea to finish. \nCost: $10 per person.
URL:https://clubfleurieu.com/event/june-club-barbecue-2/
LOCATION:South Australia
CATEGORIES:Barbecue
ATTACH;FMTTYPE=image/jpeg:https://clubfleurieu.com/wp-content/uploads/2016/02/fleurieucoast-fleurieu-coast-club-fleurieu-bbq.jpg
ORGANIZER;CN="Club Fleurieu":MAILTO:events@clubfleurieu.com
END:VEVENT
BEGIN:VEVENT
DTSTART;TZID=Asia/Hong_Kong:20220527T170000
DTEND;TZID=Asia/Hong_Kong:20220527T190000
DTSTAMP:20260421T032212
CREATED:20220429T120746Z
LAST-MODIFIED:20220429T120746Z
UID:5682-1653670800-1653678000@clubfleurieu.com
SUMMARY:Happy Hour and Dinner
DESCRIPTION:Join us at the club for this month’s Happy Hour and Dinner on Friday May 27 from 5.00pm. \nThis month Thai Curry will be on the dinner menu. \nCost: $20 members\, $25 non-members\, $5 dessert. \nBookings are essential if you’re staying for the meal. Otherwise feel free to drop in for a drink or two from Bjorn’s Bar!
URL:https://clubfleurieu.com/event/happy-hour-and-dinner-2/
LOCATION:Club Fleurieu\, 140 Main South Road\, Yankalilla\, South Australia\, 5203\, Australia
CATEGORIES:Happy Hour
ATTACH;FMTTYPE=image/jpeg:https://clubfleurieu.com/wp-content/uploads/2016/09/happy-hour.jpg
ORGANIZER;CN="Club Fleurieu":MAILTO:events@clubfleurieu.com
END:VEVENT
BEGIN:VEVENT
DTSTART;TZID=Asia/Hong_Kong:20220518T120000
DTEND;TZID=Asia/Hong_Kong:20220518T143000
DTSTAMP:20260421T032212
CREATED:20220429T115859Z
LAST-MODIFIED:20220429T115859Z
UID:5678-1652875200-1652884200@clubfleurieu.com
SUMMARY:Mothers Day Themed Lunch
DESCRIPTION:Join us for our May Club Lunch on Wednesday 18 May 12 at noon. \nThis month will have a Mother’s Day theme\, with a Club Fleurieu Op Shop Fashion Parade to be held between main course and dessert. The fashion parade clothing can be tried on and purchased after the meal. \nMenu\nMain Course: Chicken with creamy Pancetta\, Pea & Tarragon sauce or Osso Bucco\n(both mains served with vegetables).\nDessert: Tiramisu or Fruit with Icecream \nLunch is $15 per person. Bookings essential. Please advise any dietary needs in advance.
URL:https://clubfleurieu.com/event/mothers-day-themed-lunch/
LOCATION:Club Fleurieu\, 140 Main South Road\, Yankalilla\, South Australia\, 5203\, Australia
CATEGORIES:Lunch
ATTACH;FMTTYPE=image/jpeg:https://clubfleurieu.com/wp-content/uploads/2018/07/Osso-Buco-960x640.jpg
ORGANIZER;CN="Club Fleurieu":MAILTO:events@clubfleurieu.com
END:VEVENT
BEGIN:VEVENT
DTSTART;TZID=Asia/Hong_Kong:20220513T193000
DTEND;TZID=Asia/Hong_Kong:20220513T220000
DTSTAMP:20260421T032212
CREATED:20220428T025924Z
LAST-MODIFIED:20220428T030038Z
UID:5664-1652470200-1652479200@clubfleurieu.com
SUMMARY:River Rats Appearing Live at Club Fleurieu
DESCRIPTION:The “RIVER RATS” are appearing at the Club on Friday 13 May from 7.30pm. \nThe River Rats have built a strong following in the Fleurieu region\, with their brand of cool R&B classics and original songs. \nTwo singles from their latest EP\, “Hold On” were released last December. The single “Wildflower” hit number 3 on the Australian National Radio Airplay Project regional charts. \nThese guys should not be missed live! \nTickets only $15 – Bookings are essential! \nOnline Bookings via link https://www.trybooking.com/BYUBH\nOR: Purchase tickets from Club Fleurieu Op Shop\, Yankalilla\nOR: A Birdie Told Me shop\, Normanville \nThe bar is open from 6.00pm. Snack platters available to purchase.
URL:https://clubfleurieu.com/event/river-rats-appearing-live-at-club-fleurieu/
LOCATION:Club Fleurieu\, 140 Main South Road\, Yankalilla\, South Australia\, 5203\, Australia
CATEGORIES:Events
ATTACH;FMTTYPE=image/jpeg:https://clubfleurieu.com/wp-content/uploads/2022/04/club-fleurieu-river-rats-1.jpg
ORGANIZER;CN="Club Fleurieu":MAILTO:events@clubfleurieu.com
END:VEVENT
BEGIN:VEVENT
DTSTART;TZID=Asia/Hong_Kong:20220512T120000
DTEND;TZID=Asia/Hong_Kong:20220512T140000
DTSTAMP:20260421T032212
CREATED:20220429T114644Z
LAST-MODIFIED:20220429T114720Z
UID:5672-1652356800-1652364000@clubfleurieu.com
SUMMARY:April Club Barbecue
DESCRIPTION:Join us for our first Club Barbecue for the year on Tuesday May 12 at 12 noon. \nEnjoy a great value casual meal\, a drink from the bar and coffee or tea to finish. \nChicken thighs\, baked potato & salad are on the menu. \nCost: $10 per person.
URL:https://clubfleurieu.com/event/april-club-barbecue-3/
LOCATION:Club Fleurieu\, 140 Main South Road\, Yankalilla\, South Australia\, 5203\, Australia
CATEGORIES:Barbecue
ATTACH;FMTTYPE=image/jpeg:https://clubfleurieu.com/wp-content/uploads/2018/01/BBQ-lunch.jpg
ORGANIZER;CN="Club Fleurieu":MAILTO:events@clubfleurieu.com
END:VEVENT
BEGIN:VEVENT
DTSTART;TZID=Asia/Hong_Kong:20220429T170000
DTEND;TZID=Asia/Hong_Kong:20220429T200000
DTSTAMP:20260421T032212
CREATED:20220404T022017Z
LAST-MODIFIED:20220404T022017Z
UID:5639-1651251600-1651262400@clubfleurieu.com
SUMMARY:April Seafood Night
DESCRIPTION:Just us at the club on Friday 29 April from 5.00pm for our amazing Seafood Night. \nFor $30* enjoy a seafood main course plus a glass of wine\, followed by an Individual Cheese Platter for $5. \n*There will be an extra charge for Oysters \nBookings required for all events except Happy Hour/Games Night.
URL:https://clubfleurieu.com/event/april-seafood-night/
LOCATION:Club Fleurieu\, 140 Main South Road\, Yankalilla\, South Australia\, 5203\, Australia
CATEGORIES:Dinner
ATTACH;FMTTYPE=image/jpeg:https://clubfleurieu.com/wp-content/uploads/2021/09/club-fleurieu-prawns-seafood-night.jpg
ORGANIZER;CN="Club Fleurieu":MAILTO:events@clubfleurieu.com
END:VEVENT
BEGIN:VEVENT
DTSTART;TZID=Asia/Hong_Kong:20220420T120000
DTEND;TZID=Asia/Hong_Kong:20220420T140000
DTSTAMP:20260421T032212
CREATED:20220404T021616Z
LAST-MODIFIED:20220404T021616Z
UID:5634-1650456000-1650463200@clubfleurieu.com
SUMMARY:April Club Lunch
DESCRIPTION:Join us at the club on Wednesday\, April 20 16 at 12 noon for our Club Lunch with an Easter Theme. \nMenu: Roast Lamb (half serve) $15 or Pork Tenderloin $20. \nBoth mains served with roasted/steamed vegetables and followed by your choice of Hot Cross Bun Pudding with Custard\, or\, Fruit and Ice cream. \n 
URL:https://clubfleurieu.com/event/april-club-lunch-2/
LOCATION:Club Fleurieu\, 140 Main South Road\, Yankalilla\, South Australia\, 5203\, Australia
CATEGORIES:Lunch
ATTACH;FMTTYPE=image/jpeg:https://clubfleurieu.com/wp-content/uploads/2016/04/fleurieucoast-fleurieu-coast-club-fleurieu-lamb.jpg
ORGANIZER;CN="Club Fleurieu":MAILTO:events@clubfleurieu.com
END:VEVENT
BEGIN:VEVENT
DTSTART;TZID=Asia/Hong_Kong:20220412T120000
DTEND;TZID=Asia/Hong_Kong:20220412T140000
DTSTAMP:20260421T032212
CREATED:20220404T021022Z
LAST-MODIFIED:20220404T021022Z
UID:5631-1649764800-1649772000@clubfleurieu.com
SUMMARY:April Club Barbecue
DESCRIPTION:Join us for our first Club Barbecue for the year on Tuesday April 12 at 12 noon. \nEnjoy a great value casual meal\, a drink from the bar and coffee or tea to finish. \nChicken thighs\, baked potato & salad are on the menu. \nCost: $10 per person.
URL:https://clubfleurieu.com/event/april-club-barbecue-2/
LOCATION:Club Fleurieu\, 140 Main South Road\, Yankalilla\, South Australia\, 5203\, Australia
CATEGORIES:Barbecue
ATTACH;FMTTYPE=image/jpeg:https://clubfleurieu.com/wp-content/uploads/2018/01/BBQ-lunch.jpg
ORGANIZER;CN="Club Fleurieu":MAILTO:events@clubfleurieu.com
END:VEVENT
BEGIN:VEVENT
DTSTART;TZID=Asia/Hong_Kong:20220408T170000
DTEND;TZID=Asia/Hong_Kong:20220408T200000
DTSTAMP:20260421T032212
CREATED:20220404T020628Z
LAST-MODIFIED:20220404T020628Z
UID:5627-1649437200-1649448000@clubfleurieu.com
SUMMARY:Happy Hour and Games Night
DESCRIPTION:Join us at the club on Friday 8 April from 5.00pm for our regular Happy Hour and Games Night. \nThis month’s bar snacks will be loaded hot dogs at $10 each. \nThe Games Room will be set up for everyone to enjoy! \nALL WELCOME! NO BOOKINGS REQUIRED
URL:https://clubfleurieu.com/event/happy-hour-and-games-night-5/
LOCATION:Club Fleurieu\, 140 Main South Road\, Yankalilla\, South Australia\, 5203\, Australia
CATEGORIES:Happy Hour
ATTACH;FMTTYPE=image/jpeg:https://clubfleurieu.com/wp-content/uploads/2017/07/Games-Night.jpg
ORGANIZER;CN="Club Fleurieu":MAILTO:events@clubfleurieu.com
END:VEVENT
BEGIN:VEVENT
DTSTART;TZID=Asia/Hong_Kong:20220325T170000
DTEND;TZID=Asia/Hong_Kong:20220325T190000
DTSTAMP:20260421T032212
CREATED:20220303T021537Z
LAST-MODIFIED:20220303T021611Z
UID:5585-1648227600-1648234800@clubfleurieu.com
SUMMARY:Happy Hour and Dinner
DESCRIPTION:Join us at the club for our Happy Hour and Dinner on Friday\, 25 March from 5.00pm. \nMenu: Chicken Breast\, Caesar Salad & Potato Gratin. \nCost: $20 members/$25 non-members and $5 for dessert. \nBookings are required for all events. \nPlease note that due to Books & Words Quiz Night\, there will not be a mid-month Happy Hour/Games Night in March.
URL:https://clubfleurieu.com/event/happy-hour-and-dinner/
LOCATION:Club Fleurieu\, 140 Main South Road\, Yankalilla\, South Australia\, 5203\, Australia
CATEGORIES:Happy Hour
ATTACH;FMTTYPE=image/jpeg:https://clubfleurieu.com/wp-content/uploads/2016/09/happy-hour.jpg
ORGANIZER;CN="Club Fleurieu":MAILTO:events@clubfleurieu.com
END:VEVENT
BEGIN:VEVENT
DTSTART;TZID=Asia/Hong_Kong:20220316T120000
DTEND;TZID=Asia/Hong_Kong:20220316T140000
DTSTAMP:20260421T032212
CREATED:20220303T021109Z
LAST-MODIFIED:20220303T021109Z
UID:5581-1647432000-1647439200@clubfleurieu.com
SUMMARY:St. Patricks Day Lunch
DESCRIPTION:Join us for our St Patrick’s Lunch on Wednesday\, March 16 at 12 noon . \nWe’re celebrating all things Irish a day early! The Guinness & Kilkenny will be flowing at O’Bjorn’s Bar\, and why not finish the afternoon with a delicious Irish Coffee? You might even have the luck o’ the Irish and win a raffle prize! \nMenu: Shepherd’s Pie (half serve) $15\, Guinness Stew with Dumplings $20 followed by Baked Apples with custard and ice cream.
URL:https://clubfleurieu.com/event/st-patricks-day-lunch-2/
LOCATION:Club Fleurieu\, 140 Main South Road\, Yankalilla\, South Australia\, 5203\, Australia
CATEGORIES:Lunch
ATTACH;FMTTYPE=image/jpeg:https://clubfleurieu.com/wp-content/uploads/2016/02/fleurieucoast-fleurieu-coast-club-st-patricks-day2.jpg
ORGANIZER;CN="Club Fleurieu":MAILTO:events@clubfleurieu.com
END:VEVENT
BEGIN:VEVENT
DTSTART;TZID=Asia/Hong_Kong:20220308T120000
DTEND;TZID=Asia/Hong_Kong:20220308T140000
DTSTAMP:20260421T032212
CREATED:20220303T020408Z
LAST-MODIFIED:20220303T020408Z
UID:5577-1646740800-1646748000@clubfleurieu.com
SUMMARY:March Club Barbecue
DESCRIPTION:Join us for our first Club Barbecue for the year on Tuesday March 8 at 12 noon. \nEnjoy a great value casual meal\, a drink from the bar and coffee or tea to finish. \nCheck the notice board for the menu. \nCost: $10 per person. \n 
URL:https://clubfleurieu.com/event/march-club-barbecue-2/
LOCATION:Club Fleurieu\, 140 Main South Road\, Yankalilla\, South Australia\, 5203\, Australia
CATEGORIES:Barbecue
ATTACH;FMTTYPE=image/jpeg:https://clubfleurieu.com/wp-content/uploads/2017/10/fleurieucoast-fleurieu-coast-club-fleurieu-bbq.jpg
ORGANIZER;CN="Club Fleurieu":MAILTO:events@clubfleurieu.com
END:VEVENT
END:VCALENDAR