BEGIN:VCALENDAR
VERSION:2.0
PRODID:-//Club Fleurieu - ECPv6.15.17.1//NONSGML v1.0//EN
CALSCALE:GREGORIAN
METHOD:PUBLISH
X-WR-CALNAME:Club Fleurieu
X-ORIGINAL-URL:https://clubfleurieu.com
X-WR-CALDESC:Events for Club Fleurieu
REFRESH-INTERVAL;VALUE=DURATION:PT1H
X-Robots-Tag:noindex
X-PUBLISHED-TTL:PT1H
BEGIN:VTIMEZONE
TZID:Asia/Hong_Kong
BEGIN:STANDARD
TZOFFSETFROM:+0800
TZOFFSETTO:+0800
TZNAME:HKT
DTSTART:20200101T000000
END:STANDARD
END:VTIMEZONE
BEGIN:VEVENT
DTSTART;TZID=Asia/Hong_Kong:20211112T170000
DTEND;TZID=Asia/Hong_Kong:20211112T190000
DTSTAMP:20260426T032854
CREATED:20211103T100509Z
LAST-MODIFIED:20211103T100509Z
UID:5391-1636736400-1636743600@clubfleurieu.com
SUMMARY:November Mid Month Happy Hour
DESCRIPTION:Join us on Friday 12 November at 5.00pm for our Happy Hour & Games Night. \nTry your hand at Pool\, Darts or Chess in our refurbished Games Room! \n$5 plates of snacks available\, no sit-down meal. All welcome\, no bookings required.
URL:https://clubfleurieu.com/event/november-mid-month-happy-hour/
LOCATION:Club Fleurieu\, 140 Main South Road\, Yankalilla\, South Australia\, 5203\, Australia
CATEGORIES:Happy Hour
ATTACH;FMTTYPE=image/jpeg:https://clubfleurieu.com/wp-content/uploads/2016/09/happy-hour.jpg
ORGANIZER;CN="Club Fleurieu":MAILTO:events@clubfleurieu.com
END:VEVENT
BEGIN:VEVENT
DTSTART;TZID=Asia/Hong_Kong:20211109T120000
DTEND;TZID=Asia/Hong_Kong:20211109T143000
DTSTAMP:20260426T032854
CREATED:20211103T100158Z
LAST-MODIFIED:20211103T100158Z
UID:5386-1636459200-1636468200@clubfleurieu.com
SUMMARY:November Club Barbecue
DESCRIPTION:Join us for our Club Barbecue on Tuesday 9 November at 12 noon. \nEnjoy Chicken Burgers\, a drink from the bar and coffee or tea to finish. \nCost: $ 10 per person.
URL:https://clubfleurieu.com/event/november-club-barbecue-2/
LOCATION:Club Fleurieu\, 140 Main South Road\, Yankalilla\, South Australia\, 5203\, Australia
CATEGORIES:Fitness Class
ATTACH;FMTTYPE=image/jpeg:https://clubfleurieu.com/wp-content/uploads/2018/01/BBQ-lunch.jpg
ORGANIZER;CN="Club Fleurieu":MAILTO:events@clubfleurieu.com
END:VEVENT
BEGIN:VEVENT
DTSTART;TZID=Asia/Hong_Kong:20211029T173000
DTEND;TZID=Asia/Hong_Kong:20211029T190000
DTSTAMP:20260426T032854
CREATED:20211002T075255Z
LAST-MODIFIED:20211002T075255Z
UID:5336-1635528600-1635534000@clubfleurieu.com
SUMMARY:Halloween October Happy Hour
DESCRIPTION:Join us for our October Happy Hour and dinner on Friday 29 October at 5.30pm. The theme is Halloween. Come dressed to scare!! \nBar open from 5.00pm\, dinner served by 7.00pm. \nSpooky Menu : Bratts & Burgers + Devil’s Food Cake \nCost : $15 member/$20 non-member\, $5 dessert.
URL:https://clubfleurieu.com/event/halloween-october-happy-hour/
LOCATION:Club Fleurieu\, 140 Main South Road\, Yankalilla\, South Australia\, 5203\, Australia
CATEGORIES:Happy Hour
ATTACH;FMTTYPE=image/jpeg:https://clubfleurieu.com/wp-content/uploads/2021/10/club-fleurieu-halloween.jpg
ORGANIZER;CN="Club Fleurieu":MAILTO:events@clubfleurieu.com
END:VEVENT
BEGIN:VEVENT
DTSTART;TZID=Asia/Hong_Kong:20211020T120000
DTEND;TZID=Asia/Hong_Kong:20211020T140000
DTSTAMP:20260426T032854
CREATED:20211002T064042Z
LAST-MODIFIED:20211002T064042Z
UID:5324-1634731200-1634738400@clubfleurieu.com
SUMMARY:Club Lunch Spring Theme
DESCRIPTION:All are welcome to our Club Lunch on Wednesday 20 October at 12 noon\, the theme is Spring Lunch. \nMenu:  Slow Cooked Lamb with vegetables\, Seasonal Berries with Icecream.   \nCost: $15 member/$20 non-member.
URL:https://clubfleurieu.com/event/club-lunch-spring-theme/
LOCATION:South Australia
CATEGORIES:Lunch
ATTACH;FMTTYPE=image/jpeg:https://clubfleurieu.com/wp-content/uploads/2019/01/Club-Fleurieu-Lamb-Shanks.jpg
END:VEVENT
BEGIN:VEVENT
DTSTART;TZID=Asia/Hong_Kong:20211012T120000
DTEND;TZID=Asia/Hong_Kong:20211012T140000
DTSTAMP:20260426T032854
CREATED:20211002T080058Z
LAST-MODIFIED:20211002T080058Z
UID:5343-1634040000-1634047200@clubfleurieu.com
SUMMARY:October Club Barbecue
DESCRIPTION:Join us for our Club Barbecue on Tuesday 12 October at 12 noon. \nEnjoy a great value\, casual meal\, a drink from the bar and coffee or tea to finish. \nCheck the notice board for the menu. \nCost: $ 10 per person.
URL:https://clubfleurieu.com/event/october-club-barbecue-3/
LOCATION:Club Fleurieu\, 140 Main South Road\, Yankalilla\, South Australia\, 5203\, Australia
CATEGORIES:Happy Hour
ATTACH;FMTTYPE=image/jpeg:https://clubfleurieu.com/wp-content/uploads/2016/09/happy-hour.jpg
ORGANIZER;CN="Club Fleurieu":MAILTO:events@clubfleurieu.com
END:VEVENT
BEGIN:VEVENT
DTSTART;TZID=Asia/Hong_Kong:20210924T173000
DTEND;TZID=Asia/Hong_Kong:20210924T190000
DTSTAMP:20260426T032854
CREATED:20210903T132520Z
LAST-MODIFIED:20210903T132724Z
UID:5313-1632504600-1632510000@clubfleurieu.com
SUMMARY:September Happy Hour
DESCRIPTION:Join us for our September Happy Hour and dinner on Friday 24 September at 5.30pm. The theme is Seafood Night. \nFor $30* enjoy a seafood main course plus a glass of wine\, followed by Individual Cheese Platter ($5). \n*There will be an extra charge for Oysters.
URL:https://clubfleurieu.com/event/september-happy-hour-2/
LOCATION:Club Fleurieu\, 140 Main South Road\, Yankalilla\, South Australia\, 5203\, Australia
CATEGORIES:Happy Hour
ATTACH;FMTTYPE=image/jpeg:https://clubfleurieu.com/wp-content/uploads/2021/09/club-fleurieu-prawns-seafood-night.jpg
ORGANIZER;CN="Club Fleurieu":MAILTO:events@clubfleurieu.com
END:VEVENT
BEGIN:VEVENT
DTSTART;TZID=Asia/Hong_Kong:20210915T120000
DTEND;TZID=Asia/Hong_Kong:20210915T143000
DTSTAMP:20260426T032854
CREATED:20210903T124528Z
LAST-MODIFIED:20210903T124528Z
UID:5304-1631707200-1631716200@clubfleurieu.com
SUMMARY:September Club Lunch Fathers Day Theme
DESCRIPTION:All are welcome to our Club Lunch on Wednesday 15 September at 12 noon for our Father’s Day Theme. \nIt’s a little late\, but we wanted to celebrate all our wonderful Dads & Grandads! \nEnjoy Roast Pork with vegetables\, followed by Bread & Butter Pudding or Fruit and Icecream \nCost: $15 member/$20 non-member.
URL:https://clubfleurieu.com/event/september-club-lunch-fathers-day-theme/
LOCATION:Club Fleurieu\, 140 Main South Road\, Yankalilla\, South Australia\, 5203\, Australia
CATEGORIES:Lunch
ATTACH;FMTTYPE=image/jpeg:https://clubfleurieu.com/wp-content/uploads/2016/05/Roast-Pork.jpg
ORGANIZER;CN="Club Fleurieu":MAILTO:events@clubfleurieu.com
END:VEVENT
BEGIN:VEVENT
DTSTART;TZID=Asia/Hong_Kong:20210907T120000
DTEND;TZID=Asia/Hong_Kong:20210907T143000
DTSTAMP:20260426T032854
CREATED:20210903T123626Z
LAST-MODIFIED:20210903T123725Z
UID:5302-1631016000-1631025000@clubfleurieu.com
SUMMARY:September Club Barbecue
DESCRIPTION:Join us for our Club Barbecue on Tuesday 7 September at 12 noon. \nEnjoy a great value\, casual meal\, a drink from the bar and coffee or tea to finish. \nChicken Burger “with the lot” is the menu special for the day. \nCost: $ 10 per person.
URL:https://clubfleurieu.com/event/september-club-barbecue-2/
LOCATION:Club Fleurieu\, 140 Main South Road\, Yankalilla\, South Australia\, 5203\, Australia
ATTACH;FMTTYPE=image/jpeg:https://clubfleurieu.com/wp-content/uploads/2021/05/fresh-meat-prepared-fire-2.jpg
ORGANIZER;CN="Club Fleurieu":MAILTO:events@clubfleurieu.com
END:VEVENT
BEGIN:VEVENT
DTSTART;TZID=Asia/Hong_Kong:20210904T140000
DTEND;TZID=Asia/Hong_Kong:20210904T170000
DTSTAMP:20260426T032854
CREATED:20210803T105756Z
LAST-MODIFIED:20210803T105756Z
UID:5264-1630764000-1630774800@clubfleurieu.com
SUMMARY:Annual General Meeting 2021
DESCRIPTION:Annual General Meeting for 2021 is scheduled for Saturday 4 September commencing at 2.00pm. \nEvery Club member will soon receive a written or emailed invitation to our AGM. An agenda and other information will be included. Our Management Committee will have two vacant positions: Secretary and general committee member. \nNominations for these positions open on 11 August and close on 24 August. Please RSVP for the AGM by phone\, email or by adding your name to the attendance or apologies registers at the Club. \nAfternoon tea will follow the meeting and the bar will be open for purchase of drinks. Anyone is welcome to attend the AGM\, however only 2021-22 financial members and Life Members will be eligible to vote.
URL:https://clubfleurieu.com/event/annual-general-meeting-2021/
LOCATION:Club Fleurieu\, 140 Main South Road\, Yankalilla\, South Australia\, 5203\, Australia
ATTACH;FMTTYPE=image/jpeg:https://clubfleurieu.com/wp-content/uploads/2021/08/AGM-Graphic-2021.jpg
ORGANIZER;CN="Club Fleurieu":MAILTO:events@clubfleurieu.com
END:VEVENT
BEGIN:VEVENT
DTSTART;TZID=Asia/Hong_Kong:20210903T080000
DTEND;TZID=Asia/Hong_Kong:20210903T170000
DTSTAMP:20260426T032854
CREATED:20210903T125438Z
LAST-MODIFIED:20210903T125655Z
UID:5308-1630656000-1630688400@clubfleurieu.com
SUMMARY:September Mid Month Happy Hour
DESCRIPTION:Join us on Friday 10 September at 5.30pm for our monthly Happy Hour and Dinner. \nFor the month of September we are offering Schnitzels and wedges. \nIt’s a great way to unwind on a Friday evening and the prices are fantastic! Bookings essential for dinner. \nMembers $15 – Non Members $20. Dessert $5 optional.
URL:https://clubfleurieu.com/event/september-mid-month-happy-hour/
LOCATION:South Australia
ATTACH;FMTTYPE=image/jpeg:https://clubfleurieu.com/wp-content/uploads/2021/05/chicken-schnitzel-club-fleurieu.jpg
END:VEVENT
BEGIN:VEVENT
DTSTART;TZID=Asia/Hong_Kong:20210827T173000
DTEND;TZID=Asia/Hong_Kong:20210827T190000
DTSTAMP:20260426T032854
CREATED:20210803T110431Z
LAST-MODIFIED:20210803T110431Z
UID:5273-1630085400-1630090800@clubfleurieu.com
SUMMARY:August Happy Hour Spanish Theme
DESCRIPTION:Join us on Friday 27 August 5.30pm for our monthly Happy Hour and Dinner. \nFor the month of August\, we are going with a Spanish Theme. Tasty Paella will be followed by a “to die for” Basque Cheesecake. \nIt’s a great way to unwind on a Friday evening and the prices are fantastic! Bookings essential for dinner. \nMembers $15 – Non Members $20. Dessert $5 optional.
URL:https://clubfleurieu.com/event/august-happy-hour-spanish-theme/
LOCATION:Club Fleurieu\, 140 Main South Road\, Yankalilla\, South Australia\, 5203\, Australia
ATTACH;FMTTYPE=image/jpeg:https://clubfleurieu.com/wp-content/uploads/2021/08/club-fleurieu-paella-spanish.jpg
ORGANIZER;CN="Club Fleurieu":MAILTO:events@clubfleurieu.com
END:VEVENT
BEGIN:VEVENT
DTSTART;TZID=Asia/Hong_Kong:20210818T120000
DTEND;TZID=Asia/Hong_Kong:20210818T140000
DTSTAMP:20260426T032854
CREATED:20210803T110305Z
LAST-MODIFIED:20210803T110305Z
UID:5271-1629288000-1629295200@clubfleurieu.com
SUMMARY:August Club Lunch Italian Theme
DESCRIPTION:Join us for our monthly Club Lunch on Wednesday 18 August at 12 noon \nThis month\, our Club Lunch will be an Italian Theme… Enjoy the tastes of Italy!! \nA hearty Osso Bucco will be followed by Panna Cotta. \nCosts: $15 member / $20 non-member. Bookings essential.
URL:https://clubfleurieu.com/event/august-club-lunch-italian-theme/
LOCATION:Club Fleurieu\, 140 Main South Road\, Yankalilla\, South Australia\, 5203\, Australia
ATTACH;FMTTYPE=image/jpeg:https://clubfleurieu.com/wp-content/uploads/2021/08/club-fleurieu-osso-bucco-night.jpeg
ORGANIZER;CN="Club Fleurieu":MAILTO:events@clubfleurieu.com
END:VEVENT
BEGIN:VEVENT
DTSTART;TZID=Asia/Hong_Kong:20210813T173000
DTEND;TZID=Asia/Hong_Kong:20210813T190000
DTSTAMP:20260426T032854
CREATED:20210803T110609Z
LAST-MODIFIED:20210803T110609Z
UID:5275-1628875800-1628881200@clubfleurieu.com
SUMMARY:August Mid Month Happy Hour Indian Theme
DESCRIPTION:Join us for our July Mid Month Happy Hour on Friday 13 August at 5.30pm \nThis month we are celebrating an Indian Theme. While we can’t provide the Taj Mahal\, we can promise you a delicious curry and dessert! \nCost: $15 member/$20 non-member\, $5 optional dessert
URL:https://clubfleurieu.com/event/august-mid-month-happy-hour-indian-theme/
LOCATION:Club Fleurieu\, 140 Main South Road\, Yankalilla\, South Australia\, 5203\, Australia
ATTACH;FMTTYPE=image/jpeg:https://clubfleurieu.com/wp-content/uploads/2021/08/club-fleurieu-indian-curry-dinner.jpg
ORGANIZER;CN="Club Fleurieu":MAILTO:events@clubfleurieu.com
END:VEVENT
BEGIN:VEVENT
DTSTART;TZID=Asia/Hong_Kong:20210810T120000
DTEND;TZID=Asia/Hong_Kong:20210810T140000
DTSTAMP:20260426T032854
CREATED:20210803T110143Z
LAST-MODIFIED:20210803T110143Z
UID:5269-1628596800-1628604000@clubfleurieu.com
SUMMARY:August Club Barbecue
DESCRIPTION:Join us for our Club Barbecue on Tuesday 10 August at 12 noon. \nEnjoy a great value\, casual meal\, a drink from the bar and coffee or tea to finish. \nPlease check noticeboard for menu. $ 10 per person
URL:https://clubfleurieu.com/event/august-club-barbecue-2/
LOCATION:Club Fleurieu\, 140 Main South Road\, Yankalilla\, South Australia\, 5203\, Australia
ATTACH;FMTTYPE=image/jpeg:https://clubfleurieu.com/wp-content/uploads/2018/01/BBQ-lunch.jpg
ORGANIZER;CN="Club Fleurieu":MAILTO:events@clubfleurieu.com
END:VEVENT
BEGIN:VEVENT
DTSTART;TZID=Asia/Hong_Kong:20210730T173000
DTEND;TZID=Asia/Hong_Kong:20210730T193000
DTSTAMP:20260426T032854
CREATED:20210620T053518Z
LAST-MODIFIED:20210701T120654Z
UID:5204-1627666200-1627673400@clubfleurieu.com
SUMMARY:Swedish Christmas in July
DESCRIPTION:Join Bjorn on Friday 30 July at 5.30pm for “Swedish Christmas in July”. \nThe Northern Hemisphere celebrates Christmas in winter\, so Bjorn is preparing a menu to give us a taste of Christmas in Sweden! \nExperience a Swedish Christmas Dinner with a menu designed by Bjorn. \nEnjoy Christmas Ham\, Meatballs\, Janson’s Temptation Potato Dish and Red Cabbage\, followed by a delicious dessert. \n$20 members / $25 non-members / $5 dessert \nFor an extra $10\, start your meal with Bjorn’s special entrée “A Taste of Scandinavia”. This consists of Herrings\, Smoked Salmon and Schnapps. \nBookings are essential.
URL:https://clubfleurieu.com/event/swedish-christmas-in-july/
LOCATION:Club Fleurieu\, 140 Main South Road\, Yankalilla\, South Australia\, 5203\, Australia
CATEGORIES:Dinner
ATTACH;FMTTYPE=image/jpeg:https://clubfleurieu.com/wp-content/uploads/2021/06/stockholm-capital-city-of-sweden-P87T2BK.jpg
ORGANIZER;CN="Club Fleurieu":MAILTO:events@clubfleurieu.com
END:VEVENT
BEGIN:VEVENT
DTSTART;TZID=Asia/Hong_Kong:20210721T120000
DTEND;TZID=Asia/Hong_Kong:20210721T143000
DTSTAMP:20260426T032854
CREATED:20210620T053831Z
LAST-MODIFIED:20210620T054047Z
UID:5207-1626868800-1626877800@clubfleurieu.com
SUMMARY:July Club Lunch
DESCRIPTION:Join us for our July Club Lunch on Wednesday 21 July at 12 noon. \nWarm up at the Club on a cold winter day. \nMenu: Greek Lemon & Chicken Soup followed by Beef Stroganoff with Noodles. \nCost: $15 member/$20 non-member.
URL:https://clubfleurieu.com/event/july-club-lunch-2/
LOCATION:Club Fleurieu\, 140 Main South Road\, Yankalilla\, South Australia\, 5203\, Australia
CATEGORIES:Lunch
ATTACH;FMTTYPE=image/jpeg:https://clubfleurieu.com/wp-content/uploads/2021/06/beef-stroganoff-with-mushrooms-VEWU8N7.jpg
ORGANIZER;CN="Club Fleurieu":MAILTO:events@clubfleurieu.com
END:VEVENT
BEGIN:VEVENT
DTSTART;TZID=Asia/Hong_Kong:20210720T080000
DTEND;TZID=Asia/Hong_Kong:20210720T170000
DTSTAMP:20260426T032854
CREATED:20210720T091116Z
LAST-MODIFIED:20210720T091116Z
UID:5236-1626768000-1626800400@clubfleurieu.com
SUMMARY:Club and Op Shop Lockdown Notice
DESCRIPTION:We advise that following the State Government directive of Tuesday\, March 20\, Club Fleurieu is closed for one week and will reopen on Tuesday\, July 27. All events and activities have been cancelled for this period of time. \nOur Op Shop will also be closed for 7 days until next week. \nWe have set up an R U OK? Hotline. If you feel isolated or in need of help\, please phone us on 8558 2053. This will also divert to a mobile. You are not alone – please stay safe.
URL:https://clubfleurieu.com/event/club-and-op-shop-lockdown-notice/
LOCATION:South Australia
ATTACH;FMTTYPE=image/jpeg:https://clubfleurieu.com/wp-content/uploads/2020/03/Corona-Virus-Update.jpg
END:VEVENT
BEGIN:VEVENT
DTSTART;TZID=Asia/Hong_Kong:20210713T120000
DTEND;TZID=Asia/Hong_Kong:20210713T140000
DTSTAMP:20260426T032854
CREATED:20210620T063104Z
LAST-MODIFIED:20210622T031359Z
UID:5216-1626177600-1626184800@clubfleurieu.com
SUMMARY:July Club Barbecue
DESCRIPTION:Join us for our July Club Barbecue this Tuesday 13 July at 12 noon \nMenu: Burgers with Loaded Potatoes. \nCost is: $10 per person\, $15 Non Members. Bookings essential.
URL:https://clubfleurieu.com/event/july-club-barbecue-2/
LOCATION:Club Fleurieu\, 140 Main South Road\, Yankalilla\, South Australia\, 5203\, Australia
CATEGORIES:Barbecue
ATTACH;FMTTYPE=image/jpeg:https://clubfleurieu.com/wp-content/uploads/2021/06/burger-and-french-fries-96RQTP5.jpg
ORGANIZER;CN="Club Fleurieu":MAILTO:events@clubfleurieu.com
END:VEVENT
BEGIN:VEVENT
DTSTART;TZID=Asia/Hong_Kong:20210709T173000
DTEND;TZID=Asia/Hong_Kong:20210709T190000
DTSTAMP:20260426T032854
CREATED:20210620T060110Z
LAST-MODIFIED:20210620T060110Z
UID:5212-1625851800-1625857200@clubfleurieu.com
SUMMARY:July Mid Month Happy Hour
DESCRIPTION:Join us for our July Mid Month Happy Hour on Friday 9 July at 5.30pm. This month we have chosen an Aussie Theme. \nMenu: Pie Floaters and Chocolate Ripple Cake. \nCost: $15 member/$20 non-member\, $5 optional dessert
URL:https://clubfleurieu.com/event/july-mid-month-happy-hour/
LOCATION:South Australia
CATEGORIES:Happy Hour
ATTACH;FMTTYPE=image/jpeg:https://clubfleurieu.com/wp-content/uploads/2016/09/happy-hour.jpg
END:VEVENT
BEGIN:VEVENT
DTSTART;TZID=Asia/Hong_Kong:20210625T173000
DTEND;TZID=Asia/Hong_Kong:20210625T193000
DTSTAMP:20260426T032854
CREATED:20210522T032912Z
LAST-MODIFIED:20210522T034138Z
UID:5158-1624642200-1624649400@clubfleurieu.com
SUMMARY:Steak and Red Wine Dinner
DESCRIPTION:Join us at the club on Friday June 25 at 5.30pm for a Steak and Red Night. \nInstead of our traditional Happy Hour\, our special end of month event in June will be a Steak and Red Wine dinner. This event was a great success last year! \nCome along and sample the best red wines that Bjorn’s Bar has to offer. Then for just $30 enjoy a steak\, jacket potato and salad\, plus a glass of red wine of your choice. \nTo finish your meal\, dessert will be available for $5. \nPlaces will be limited\, so book early!
URL:https://clubfleurieu.com/event/steak-and-red-wine-dinner-2/
LOCATION:Club Fleurieu\, 140 Main South Road\, Yankalilla\, South Australia\, 5203\, Australia
CATEGORIES:Happy Hour
ATTACH;FMTTYPE=image/jpeg:https://clubfleurieu.com/wp-content/uploads/2021/05/club-fleurieu-steak-dinner.jpg
ORGANIZER;CN="Club Fleurieu":MAILTO:events@clubfleurieu.com
END:VEVENT
BEGIN:VEVENT
DTSTART;TZID=Asia/Hong_Kong:20210616T120000
DTEND;TZID=Asia/Hong_Kong:20210616T140000
DTSTAMP:20260426T032854
CREATED:20210522T031818Z
LAST-MODIFIED:20210522T031818Z
UID:5151-1623844800-1623852000@clubfleurieu.com
SUMMARY:June Club Lunch
DESCRIPTION:Our June Club Lunch will take place on Wednesday 16 June at 12 noon. \nMain: Chunky Beef Pie / Chicken & Mushroom Pie\nDessert: Nut Sundae / Fruit & Icecream \nRelax over lunch with a drink from Bjorn’s Bar. \nPlease advise of any special dietary requirements when making your booking. \nPrice is $15 Members and $20 Non Members.
URL:https://clubfleurieu.com/event/june-club-lunch-2/
LOCATION:Club Fleurieu\, 140 Main South Road\, Yankalilla\, South Australia\, 5203\, Australia
CATEGORIES:Lunch
ATTACH;FMTTYPE=image/jpeg:https://clubfleurieu.com/wp-content/uploads/2020/09/meat-pie.jpg
ORGANIZER;CN="Club Fleurieu":MAILTO:events@clubfleurieu.com
END:VEVENT
BEGIN:VEVENT
DTSTART;TZID=Asia/Hong_Kong:20210611T173000
DTEND;TZID=Asia/Hong_Kong:20210611T193000
DTSTAMP:20260426T032854
CREATED:20210522T032547Z
LAST-MODIFIED:20210522T032547Z
UID:5155-1623432600-1623439800@clubfleurieu.com
SUMMARY:June Mid Month Happy Hour
DESCRIPTION:Our June Mid Month Happy Hour will take place on Friday\, May 11 at 5.30pm. \nThe mid month dinner will be served from 6.30pm. The menu will be Chicken Parmigiana and Wedges\, plus Cheese Platters. \nIt’s a great way to unwind on a Friday evening and the prices are fantastic! Bookings essential for dinner. \nMembers $15 – Non Members $20. $5 optional platter.
URL:https://clubfleurieu.com/event/june-mid-month-happy-hour/
LOCATION:Club Fleurieu\, 140 Main South Road\, Yankalilla\, South Australia\, 5203\, Australia
CATEGORIES:Happy Hour
ATTACH;FMTTYPE=image/jpeg:https://clubfleurieu.com/wp-content/uploads/2018/01/Club-Lunch-Schnitzel.jpg
ORGANIZER;CN="Club Fleurieu":MAILTO:events@clubfleurieu.com
END:VEVENT
BEGIN:VEVENT
DTSTART;TZID=Asia/Hong_Kong:20210608T120000
DTEND;TZID=Asia/Hong_Kong:20210608T140000
DTSTAMP:20260426T032854
CREATED:20210522T030441Z
LAST-MODIFIED:20210525T002258Z
UID:5144-1623153600-1623160800@clubfleurieu.com
SUMMARY:June Winter Warmer Lunch
DESCRIPTION:Our Winter Warmer Lunch is now on the second Tuesday of each month. This month it will be held on Tuesday\, June 8 at 12 noon. Enjoy hearty soup with delicious crusty bread. \nCost: $10 Members $15 Non Members. Bookings essential.
URL:https://clubfleurieu.com/event/june-winter-warmer-lunch/
LOCATION:Club Fleurieu\, 140 Main South Road\, Yankalilla\, South Australia\, 5203\, Australia
CATEGORIES:Lunch
ATTACH;FMTTYPE=image/jpeg:https://clubfleurieu.com/wp-content/uploads/2021/05/club-fleurieu-soup.jpg
ORGANIZER;CN="Club Fleurieu":MAILTO:events@clubfleurieu.com
END:VEVENT
BEGIN:VEVENT
DTSTART;TZID=Asia/Hong_Kong:20210528T173000
DTEND;TZID=Asia/Hong_Kong:20210528T193000
DTSTAMP:20260426T032854
CREATED:20210503T025656Z
LAST-MODIFIED:20210503T025656Z
UID:5111-1622223000-1622230200@clubfleurieu.com
SUMMARY:May Happy Hour
DESCRIPTION:Our May Happy Hours will take place on Friday\, May 28 at 5.30pm and this month will be a Chinese Theme. \nThe dinner will be served from 6.30pm. The menu will be Chicken & Cashews\, Black Bean Steak and Fried Rice; optional dessert is Lychees with Icecream. \nIt’s a great way to unwind on a Friday evening and the prices are fantastic! Bookings essential for dinner. \nMembers $15 – Non Members $20. Dessert $5 optional.
URL:https://clubfleurieu.com/event/may-happy-hour/
LOCATION:Club Fleurieu\, 140 Main South Road\, Yankalilla\, South Australia\, 5203\, Australia
CATEGORIES:Happy Hour
ATTACH;FMTTYPE=image/jpeg:https://clubfleurieu.com/wp-content/uploads/2021/05/chicken-and-cashews.jpg
ORGANIZER;CN="Club Fleurieu":MAILTO:events@clubfleurieu.com
END:VEVENT
BEGIN:VEVENT
DTSTART;TZID=Asia/Hong_Kong:20210519T120000
DTEND;TZID=Asia/Hong_Kong:20210519T140000
DTSTAMP:20260426T032854
CREATED:20210503T030806Z
LAST-MODIFIED:20210503T030806Z
UID:5119-1621425600-1621432800@clubfleurieu.com
SUMMARY:May Club Lunch Mothers Day Theme
DESCRIPTION:Our May Club Lunch will take place on Wednesday 19 May at 12 noon\, and will be a Mother’s Day Theme. \nIt will be a little late\, but we wanted to celebrate all our lovely ladies at our monthly lunch. \nOur menu will be Roast Chicken or Beef\, followed by Sticky Date Pudding or Fruit & Icecream. \nRelax over lunch with a drink from Bjorn’s Bar and try your luck with our Mother’s Day Raffle! \nPlease advise of any special dietary requirements when making your booking. \nPrice is $15 Members and $20 Non Members.
URL:https://clubfleurieu.com/event/may-club-lunch-mothers-day-theme/
LOCATION:Club Fleurieu\, 140 Main South Road\, Yankalilla\, South Australia\, 5203\, Australia
CATEGORIES:Lunch
ATTACH;FMTTYPE=image/jpeg:https://clubfleurieu.com/wp-content/uploads/2021/05/baked-chicken-with-lemon-vegetables-2.jpg
ORGANIZER;CN="Club Fleurieu":MAILTO:events@clubfleurieu.com
END:VEVENT
BEGIN:VEVENT
DTSTART;TZID=Asia/Hong_Kong:20210514T173000
DTEND;TZID=Asia/Hong_Kong:20210514T193000
DTSTAMP:20260426T032854
CREATED:20210503T025541Z
LAST-MODIFIED:20210503T025541Z
UID:5102-1621013400-1621020600@clubfleurieu.com
SUMMARY:May Mid Month Happy Hour
DESCRIPTION:Our May Happy Hours will take place on Friday\, May 14 at 5.30pm. \nThe mid month dinner will be served from 6.30pm. The menu will be Meatballs with Crusty Bread\, followed by an optional dessert of Trifle. \nIt’s a great way to unwind on a Friday evening and the prices are fantastic! Bookings essential for dinner. \nMembers $15 – Non Members $20. Dessert $5 optional.
URL:https://clubfleurieu.com/event/may-mid-month-happy-hour/
LOCATION:Club Fleurieu\, 140 Main South Road\, Yankalilla\, South Australia\, 5203\, Australia
CATEGORIES:Happy Hour
ATTACH;FMTTYPE=image/jpeg:https://clubfleurieu.com/wp-content/uploads/2021/05/meatballs.jpg
ORGANIZER;CN="Club Fleurieu":MAILTO:events@clubfleurieu.com
END:VEVENT
BEGIN:VEVENT
DTSTART;TZID=Asia/Hong_Kong:20210511T120000
DTEND;TZID=Asia/Hong_Kong:20210511T133000
DTSTAMP:20260426T032854
CREATED:20210503T022928Z
LAST-MODIFIED:20210503T025852Z
UID:5100-1620734400-1620739800@clubfleurieu.com
SUMMARY:May Club Barbecue
DESCRIPTION:Our Club Barbecue is now on the second Tuesday of each month. This month it will be held on Tuesday May 11 at 12 noon. The menu will be Chicken Skewers & Flatbread. \nCome and check out our new look outdoor area and\, weather permitting\, enjoy a BBQ lunch under the yellow umbrellas! \nCost if $10 Members $15 Non Members. Bookings essential.
URL:https://clubfleurieu.com/event/may-club-barbecue/
LOCATION:Club Fleurieu\, 140 Main South Road\, Yankalilla\, South Australia\, 5203\, Australia
CATEGORIES:Barbecue
ATTACH;FMTTYPE=image/jpeg:https://clubfleurieu.com/wp-content/uploads/2021/05/fresh-meat-prepared-fire-2.jpg
ORGANIZER;CN="Club Fleurieu":MAILTO:events@clubfleurieu.com
END:VEVENT
BEGIN:VEVENT
DTSTART;TZID=Asia/Hong_Kong:20210430T173000
DTEND;TZID=Asia/Hong_Kong:20210430T190000
DTSTAMP:20260426T032854
CREATED:20210331T025311Z
LAST-MODIFIED:20210331T025311Z
UID:5070-1619803800-1619809200@clubfleurieu.com
SUMMARY:Mexican Happy Hour
DESCRIPTION:Our end of month Happy Hour will be held on Friday 30 April at 5.30pm. \nCome along for a drink and stay on for a Mexican dinner from 6.30pm. It promises to be a fun evening with “Senor Bjorn” adding Tequila Sunrises & Margeritas to his repertoire! \nPlease note that due to our Festival Cocktail evening there will be no mid-month Happy Hour in April.
URL:https://clubfleurieu.com/event/mexican-happy-hour/
LOCATION:Club Fleurieu\, 140 Main South Road\, Yankalilla\, South Australia\, 5203\, Australia
ATTACH;FMTTYPE=image/jpeg:https://clubfleurieu.com/wp-content/uploads/2021/03/club-fleurieu-mexico.jpg
ORGANIZER;CN="Club Fleurieu":MAILTO:events@clubfleurieu.com
END:VEVENT
BEGIN:VEVENT
DTSTART;VALUE=DATE:20210423
DTEND;VALUE=DATE:20210424
DTSTAMP:20260426T032854
CREATED:20210331T030733Z
LAST-MODIFIED:20210331T030733Z
UID:5076-1619136000-1619222399@clubfleurieu.com
SUMMARY:Club Fleurieu Open Day
DESCRIPTION:The Club will hold an Open Day on Friday 23 April as part of the “Flourishing on the Fleurieu” Festival. \nMore details will follow closer to the day.
URL:https://clubfleurieu.com/event/club-fleurieu-open-day-2/
LOCATION:Club Fleurieu\, 140 Main South Road\, Yankalilla\, South Australia\, 5203\, Australia
CATEGORIES:Open Day
ATTACH;FMTTYPE=image/jpeg:https://clubfleurieu.com/wp-content/uploads/2021/03/Club-Fleurieu-Open-Day-2021-2.jpg
ORGANIZER;CN="Club Fleurieu":MAILTO:events@clubfleurieu.com
END:VEVENT
BEGIN:VEVENT
DTSTART;TZID=Asia/Hong_Kong:20210421T120000
DTEND;TZID=Asia/Hong_Kong:20210421T143000
DTSTAMP:20260426T032854
CREATED:20210331T025657Z
LAST-MODIFIED:20210331T025657Z
UID:5073-1619006400-1619015400@clubfleurieu.com
SUMMARY:April Club Lunch
DESCRIPTION:Our April Lunch will take place on Wednesday 21 April at 12 noon. \n• Main Course … Chicken Schnitzel with mushroom gravy or Atlantic Salmon\n• Dessert … Chocolate Guinness Brownies or Fruit & Icecream \nPlease advise of any special dietary requirements when making your booking. \nPrice is $15 Members and $20 Non Members.
URL:https://clubfleurieu.com/event/april-club-lunch/
LOCATION:Club Fleurieu\, 140 Main South Road\, Yankalilla\, South Australia\, 5203\, Australia
CATEGORIES:Lunch
ATTACH;FMTTYPE=image/jpeg:https://clubfleurieu.com/wp-content/uploads/2018/01/Club-Lunch-Schnitzel.jpg
ORGANIZER;CN="Club Fleurieu":MAILTO:events@clubfleurieu.com
END:VEVENT
END:VCALENDAR