BEGIN:VCALENDAR
VERSION:2.0
PRODID:-//Club Fleurieu - ECPv6.15.17.1//NONSGML v1.0//EN
CALSCALE:GREGORIAN
METHOD:PUBLISH
X-ORIGINAL-URL:https://clubfleurieu.com
X-WR-CALDESC:Events for Club Fleurieu
REFRESH-INTERVAL;VALUE=DURATION:PT1H
X-Robots-Tag:noindex
X-PUBLISHED-TTL:PT1H
BEGIN:VTIMEZONE
TZID:Asia/Hong_Kong
BEGIN:STANDARD
TZOFFSETFROM:+0800
TZOFFSETTO:+0800
TZNAME:HKT
DTSTART:20240101T000000
END:STANDARD
END:VTIMEZONE
BEGIN:VEVENT
DTSTART;TZID=Asia/Hong_Kong:20250807T190000
DTEND;TZID=Asia/Hong_Kong:20250807T220000
DTSTAMP:20260420T122138
CREATED:20250801T021234Z
LAST-MODIFIED:20250801T021304Z
UID:7320-1754593200-1754604000@clubfleurieu.com
SUMMARY:August Movie Night “Romulus My Father”
DESCRIPTION:Thursday August 7 at 7.00pm start Movie Night SFFS presents “Romulus\, My Father”. \nOur themed meal will be served from 6.00pm\, for $15. Bjorn’s Bar will be open for drinks\, snacks & ice creams. \nVisit sffs.org.au if you’d like to join the film society\, and enjoy an entertaining evening on the first Thursday of each month. \nIt’s always a great night\, with plenty of socialising\, good food & drinks\, and an enjoyable movie followed by a quiz! If you’re interested\, visit sffs.org.au to join the film society. Membership is $60 per year. \nThere are no ticket sales at the door.
URL:https://clubfleurieu.com/event/august-movie-night-romulus-my-father/
LOCATION:Club Fleurieu\, 140 Main South Road\, Yankalilla\, South Australia\, 5203\, Australia
CATEGORIES:Movies
ATTACH;FMTTYPE=image/jpeg:https://clubfleurieu.com/wp-content/uploads/2025/08/romulus-my-father.jpg
ORGANIZER;CN="Club Fleurieu":MAILTO:events@clubfleurieu.com
END:VEVENT
BEGIN:VEVENT
DTSTART;TZID=Asia/Hong_Kong:20250812T120000
DTEND;TZID=Asia/Hong_Kong:20250812T130000
DTSTAMP:20260420T122138
CREATED:20250801T021549Z
LAST-MODIFIED:20250801T021549Z
UID:7325-1755000000-1755003600@clubfleurieu.com
SUMMARY:Club Barbecue Lunch August
DESCRIPTION:Join us for our Barbecue Lunch on Tuesday\, August 12 at 12 noon. \nA super tasty casual lunch. Make your booking to enjoy a tasty BBQ lunch. \nCost: $15 per person. Bookings required.
URL:https://clubfleurieu.com/event/club-barbecue-lunch-august-2/
LOCATION:Club Fleurieu\, 140 Main South Road\, Yankalilla\, South Australia\, 5203\, Australia
CATEGORIES:Barbecue
ATTACH;FMTTYPE=image/jpeg:https://clubfleurieu.com/wp-content/uploads/2017/10/fleurieucoast-fleurieu-coast-club-fleurieu-bbq.jpg
ORGANIZER;CN="Club Fleurieu":MAILTO:events@clubfleurieu.com
END:VEVENT
BEGIN:VEVENT
DTSTART;TZID=Asia/Hong_Kong:20250812T180000
DTEND;TZID=Asia/Hong_Kong:20250812T210000
DTSTAMP:20260420T122138
CREATED:20250801T021718Z
LAST-MODIFIED:20250801T021718Z
UID:7329-1755021600-1755032400@clubfleurieu.com
SUMMARY:Night Bingo at the Club
DESCRIPTION:Join us at the club on Tuesday August 12 at 6.00pm for Night Bingo at the Club. \nBjorn will open the Bar at 6pm\, so come along and enjoy a drink before Bingo starts at 7.00pm. \nNo need to be a Club member\, everyone is welcome to join in the fun. \nPlease BYO nibbles\, and book a table if you’re planning to come as a group.
URL:https://clubfleurieu.com/event/night-bingo-at-the-club-16/
LOCATION:Club Fleurieu\, 140 Main South Road\, Yankalilla\, South Australia\, 5203\, Australia
CATEGORIES:Bingo
ATTACH;FMTTYPE=image/jpeg:https://clubfleurieu.com/wp-content/uploads/2014/10/club-fleurieu-bingo-photo.jpg
ORGANIZER;CN="Club Fleurieu":MAILTO:events@clubfleurieu.com
END:VEVENT
BEGIN:VEVENT
DTSTART;TZID=Asia/Hong_Kong:20250817T100000
DTEND;TZID=Asia/Hong_Kong:20250817T160000
DTSTAMP:20260420T122138
CREATED:20250531T003520Z
LAST-MODIFIED:20250531T003520Z
UID:7241-1755424800-1755446400@clubfleurieu.com
SUMMARY:Jigsaw Puzzle Competition Day
DESCRIPTION:Another special event will be a Jigsaw Puzzle Competition Day\, to be held on Sunday 17 August\, 10.00am – 4.00pm. \nTables of 8 people (maximum) will compete to be the first to finish their 1000-piece jigsaw. Morning tea\, lunch and afternoon tea will keep energy levels up\, for a cost of $25 per person. \nThere will be a cash prize for the winning table! So if you’re a jigsaw enthusiast\, get your table of eight contestants together. \nAlternatively\, we can arrange for you to join a table. It promises to be a “puzzling” but entertaining event! \nBookings will be required.
URL:https://clubfleurieu.com/event/jigsaw-puzzle-competition-day/
LOCATION:Club Fleurieu\, 140 Main South Road\, Yankalilla\, South Australia\, 5203\, Australia
CATEGORIES:Events
ATTACH;FMTTYPE=image/jpeg:https://clubfleurieu.com/wp-content/uploads/2025/05/jigsaw-competition.jpg
ORGANIZER;CN="Club Fleurieu":MAILTO:events@clubfleurieu.com
END:VEVENT
BEGIN:VEVENT
DTSTART;TZID=Asia/Hong_Kong:20250820T120000
DTEND;TZID=Asia/Hong_Kong:20250820T140000
DTSTAMP:20260420T122138
CREATED:20250801T021950Z
LAST-MODIFIED:20250801T021950Z
UID:7334-1755691200-1755698400@clubfleurieu.com
SUMMARY:Club Lunch August
DESCRIPTION:Join us at the club for our Club Barbecue on Wednesday August 20 at 12 noon. \nMain: Tuscan Chicken \nDessert: Dessert is yet to be decided\, but\nit will definitely be scrumptious! \n$20 members\, $25 non-members
URL:https://clubfleurieu.com/event/club-lunch-august-2/
LOCATION:Club Fleurieu\, 140 Main South Road\, Yankalilla\, South Australia\, 5203\, Australia
CATEGORIES:Lunch
ATTACH;FMTTYPE=image/jpeg:https://clubfleurieu.com/wp-content/uploads/2016/01/fleurieucoast-fleurieu-coast-club-fleurieu-turkey-lunch.jpg
ORGANIZER;CN="Club Fleurieu":MAILTO:events@clubfleurieu.com
END:VEVENT
BEGIN:VEVENT
DTSTART;TZID=Asia/Hong_Kong:20250829T170000
DTEND;TZID=Asia/Hong_Kong:20250829T180000
DTSTAMP:20260420T122138
CREATED:20250801T022232Z
LAST-MODIFIED:20250801T022232Z
UID:7339-1756486800-1756490400@clubfleurieu.com
SUMMARY:August Happy Hour and Dinner
DESCRIPTION:Join us at the club for our August Happy Hour and Dinner on Friday 29 August from 5.00pm. \nThe Games Room will be available for pool or darts\, and Bjorn has potato chips and icecreams at the bar if you’d like a snack.
URL:https://clubfleurieu.com/event/august-happy-hour-and-dinner/
LOCATION:Club Fleurieu\, 140 Main South Road\, Yankalilla\, South Australia\, 5203\, Australia
CATEGORIES:Happy Hour
ATTACH;FMTTYPE=image/jpeg:https://clubfleurieu.com/wp-content/uploads/2016/09/happy-hour.jpg
ORGANIZER;CN="Club Fleurieu":MAILTO:events@clubfleurieu.com
END:VEVENT
END:VCALENDAR