BEGIN:VCALENDAR
VERSION:2.0
PRODID:-//Club Fleurieu - ECPv6.15.17.1//NONSGML v1.0//EN
CALSCALE:GREGORIAN
METHOD:PUBLISH
X-ORIGINAL-URL:https://clubfleurieu.com
X-WR-CALDESC:Events for Club Fleurieu
REFRESH-INTERVAL;VALUE=DURATION:PT1H
X-Robots-Tag:noindex
X-PUBLISHED-TTL:PT1H
BEGIN:VTIMEZONE
TZID:Asia/Hong_Kong
BEGIN:STANDARD
TZOFFSETFROM:+0800
TZOFFSETTO:+0800
TZNAME:HKT
DTSTART:20240101T000000
END:STANDARD
END:VTIMEZONE
BEGIN:VEVENT
DTSTART;TZID=Asia/Hong_Kong:20250904T190000
DTEND;TZID=Asia/Hong_Kong:20250904T210000
DTSTAMP:20260420T122038
CREATED:20250830T064121Z
LAST-MODIFIED:20250830T064121Z
UID:7379-1757012400-1757019600@clubfleurieu.com
SUMMARY:September Movie Night “Lunana: A Yak in the Classroom”
DESCRIPTION:Thursday September 4 at 7.00pm start Movie Night SFFS presents “Lunana\, a Yak in the Classroom”. \nOur themed meal will be served from 6.00pm\, for $15. Bjorn’s Bar will be open for drinks\, snacks & ice creams. \nVisit sffs.org.au if you’d like to join the film society\, and enjoy an entertaining evening on the first Thursday of each month. \nIt’s always a great night\, with plenty of socialising\, good food & drinks\, and an enjoyable movie followed by a quiz! If you’re interested\, visit sffs.org.au to join the film society. Membership is $60 per year. \nThere are no ticket sales at the door.
URL:https://clubfleurieu.com/event/september-movie-night-lunana-a-yak-in-the-classroom/
LOCATION:Club Fleurieu\, 140 Main South Road\, Yankalilla\, South Australia\, 5203\, Australia
CATEGORIES:Movies
ATTACH;FMTTYPE=image/png:https://clubfleurieu.com/wp-content/uploads/2025/08/blog-header-1024-x-733-px-5.png
ORGANIZER;CN="Club Fleurieu":MAILTO:events@clubfleurieu.com
END:VEVENT
BEGIN:VEVENT
DTSTART;TZID=Asia/Hong_Kong:20250906T190000
DTEND;TZID=Asia/Hong_Kong:20250906T220000
DTSTAMP:20260420T122038
CREATED:20250829T213834Z
LAST-MODIFIED:20250830T051533Z
UID:7367-1757185200-1757196000@clubfleurieu.com
SUMMARY:Wined Up Theatre Myponga Song
DESCRIPTION:Join us at the club on Saturday 6 September at 7.00pm for Wined Up Theatre present MYPONGA SONG !! \nA show based on the Music Festival held at Myponga in 1971. Wear your grooviest hippie gear! \nPlatters available for purchase. Bjorn’s Bar open (no BYO drinks). \nEntry Cost $20 / $15 Concession. Bookings Essential.
URL:https://clubfleurieu.com/event/wined-up-theatre-myponga-song/
LOCATION:Club Fleurieu\, 140 Main South Road\, Yankalilla\, South Australia\, 5203\, Australia
CATEGORIES:Theatre
ATTACH;FMTTYPE=image/jpeg:https://clubfleurieu.com/wp-content/uploads/2025/08/Screenshot-2025-08-30-at-7.05.11-am.jpg
ORGANIZER;CN="Club Fleurieu":MAILTO:events@clubfleurieu.com
END:VEVENT
BEGIN:VEVENT
DTSTART;TZID=Asia/Hong_Kong:20250909T120000
DTEND;TZID=Asia/Hong_Kong:20250909T140000
DTSTAMP:20260420T122038
CREATED:20250830T070103Z
LAST-MODIFIED:20250830T070103Z
UID:7392-1757419200-1757426400@clubfleurieu.com
SUMMARY:Club Barbecue Lunch September
DESCRIPTION:Join us for our Barbecue Lunch on Tuesday\, September 9 at 12 noon. \nA super tasty casual lunch. Make your booking to enjoy a tasty BBQ lunch. \nCost: $15 per person. Bookings required.
URL:https://clubfleurieu.com/event/club-barbecue-lunch-september-2/
LOCATION:Club Fleurieu\, 140 Main South Road\, Yankalilla\, South Australia\, 5203\, Australia
CATEGORIES:Barbecue
ATTACH;FMTTYPE=image/png:https://clubfleurieu.com/wp-content/uploads/2016/01/fleurieucoast-club-fleurieu-twilight-bbq1.png
ORGANIZER;CN="Club Fleurieu":MAILTO:events@clubfleurieu.com
END:VEVENT
BEGIN:VEVENT
DTSTART;TZID=Asia/Hong_Kong:20250913T150000
DTEND;TZID=Asia/Hong_Kong:20250913T170000
DTSTAMP:20260420T122038
CREATED:20250830T050506Z
LAST-MODIFIED:20250830T050506Z
UID:7369-1757775600-1757782800@clubfleurieu.com
SUMMARY:Annual General Meeting 2025
DESCRIPTION:Our Club Annual General Meeting is on Saturday 13 September at 3.00pm \nInformation regarding the AGM has been emailed to all members. Everyone is welcome to attend the meeting. However\, voting will be restricted to 2025 – 2026 Financial Members and Life Members. Afternoon tea will be provided following the meeting. \nFor catering purposes\, members are requested to advise of your apology or RSVP your attendance by Monday 8 September\, either\n• By email\n• Via written notification\, or\n• By registering on the attendance/apology lists in the foyer
URL:https://clubfleurieu.com/event/annual-general-meeting-2025-2/
LOCATION:Club Fleurieu\, 140 Main South Road\, Yankalilla\, South Australia\, 5203\, Australia
CATEGORIES:Annual General Meeting
ATTACH;FMTTYPE=image/jpeg:https://clubfleurieu.com/wp-content/uploads/2017/03/Fleurieu-Coast-Club-Fleurieu-rotunda2.jpg
ORGANIZER;CN="Club Fleurieu":MAILTO:events@clubfleurieu.com
END:VEVENT
BEGIN:VEVENT
DTSTART;TZID=Asia/Hong_Kong:20250917T120000
DTEND;TZID=Asia/Hong_Kong:20250917T133000
DTSTAMP:20260420T122038
CREATED:20250830T065423Z
LAST-MODIFIED:20250830T065423Z
UID:7386-1758110400-1758115800@clubfleurieu.com
SUMMARY:Club Lunch September
DESCRIPTION:Join us at the club for our Club Lunch on Wednesday September 17 at 12 noon. \nMake your booking to enjoy a delicious two-course meal. \n$20 members\, $25 non-members.
URL:https://clubfleurieu.com/event/club-lunch-september-2/
LOCATION:Club Fleurieu\, 140 Main South Road\, Yankalilla\, South Australia\, 5203\, Australia
CATEGORIES:Lunch
ATTACH;FMTTYPE=image/jpeg:https://clubfleurieu.com/wp-content/uploads/2021/05/chicken-schnitzel-club-fleurieu.jpg
ORGANIZER;CN="Club Fleurieu":MAILTO:events@clubfleurieu.com
END:VEVENT
BEGIN:VEVENT
DTSTART;TZID=Asia/Hong_Kong:20250926T170000
DTEND;TZID=Asia/Hong_Kong:20250926T190000
DTSTAMP:20260420T122038
CREATED:20250830T064815Z
LAST-MODIFIED:20250830T064826Z
UID:7382-1758906000-1758913200@clubfleurieu.com
SUMMARY:September Happy Hour
DESCRIPTION:Join us at the club for our September Happy Hour and Dinner on September 26 from 5.00pm. \nThe Games Room will be available for pool or darts\, and Bjorn has potato chips and icecreams at the bar if you’d like a snack. \n 
URL:https://clubfleurieu.com/event/september-happy-hour-3/
LOCATION:Club Fleurieu\, 140 Main South Road\, Yankalilla\, South Australia\, 5203\, Australia
CATEGORIES:Happy Hour
ATTACH;FMTTYPE=image/jpeg:https://clubfleurieu.com/wp-content/uploads/2016/09/happy-hour.jpg
ORGANIZER;CN="Club Fleurieu":MAILTO:events@clubfleurieu.com
END:VEVENT
END:VCALENDAR