BEGIN:VCALENDAR
VERSION:2.0
PRODID:-//Club Fleurieu - ECPv6.15.17.1//NONSGML v1.0//EN
CALSCALE:GREGORIAN
METHOD:PUBLISH
X-ORIGINAL-URL:https://clubfleurieu.com
X-WR-CALDESC:Events for Club Fleurieu
REFRESH-INTERVAL;VALUE=DURATION:PT1H
X-Robots-Tag:noindex
X-PUBLISHED-TTL:PT1H
BEGIN:VTIMEZONE
TZID:Asia/Hong_Kong
BEGIN:STANDARD
TZOFFSETFROM:+0800
TZOFFSETTO:+0800
TZNAME:HKT
DTSTART:20240101T000000
END:STANDARD
END:VTIMEZONE
BEGIN:VEVENT
DTSTART;TZID=Asia/Hong_Kong:20251002T190000
DTEND;TZID=Asia/Hong_Kong:20251002T210000
DTSTAMP:20260420T071048
CREATED:20250929T061706Z
LAST-MODIFIED:20250929T061706Z
UID:7406-1759431600-1759438800@clubfleurieu.com
SUMMARY:October Movie Night “My Favourite Cake”
DESCRIPTION:Thursday October 2 at 7.00pm start Movie Night SFFS presents “My Favourite Cake”\, set in Iran. \nOur themed meal will be served from 6.00pm\, for $15. Bjorn’s Bar will be open for drinks\, snacks & ice creams. \nVisit sffs.org.au if you’d like to join the film society\, and enjoy an entertaining evening on the first Thursday of each month. \nIt’s always a great night\, with plenty of socialising\, good food & drinks\, and an enjoyable movie followed by a quiz! If you’re interested\, visit sffs.org.au to join the film society. Membership is $60 per year. \nThere are no ticket sales at the door.
URL:https://clubfleurieu.com/event/october-movie-night-my-favourite-cake/
LOCATION:Club Fleurieu\, 140 Main South Road\, Yankalilla\, South Australia\, 5203\, Australia
ATTACH;FMTTYPE=image/jpeg:https://clubfleurieu.com/wp-content/uploads/2025/09/maxresdefault1.jpg
ORGANIZER;CN="Club Fleurieu":MAILTO:events@clubfleurieu.com
END:VEVENT
BEGIN:VEVENT
DTSTART;VALUE=DATE:20251004
DTEND;VALUE=DATE:20251005
DTSTAMP:20260420T071048
CREATED:20250801T022948Z
LAST-MODIFIED:20250929T062343Z
UID:7352-1759536000-1759622399@clubfleurieu.com
SUMMARY:Yankalilla Show 2025
DESCRIPTION:The YANKALILLA SHOW is this Saturday 4 October. \nMany thanks to everyone who has offered to help on our Show stall. It’s not too late to get involved\, by contributing baked goods\, plants or crafts\, or by serving on the stall. \nIf you’re visiting the Show\, drop by and find some bargains!
URL:https://clubfleurieu.com/event/yankalilla-show-2025/
LOCATION:Club Fleurieu\, 140 Main South Road\, Yankalilla\, South Australia\, 5203\, Australia
CATEGORIES:Yankalilla Show
ATTACH;FMTTYPE=image/jpeg:https://clubfleurieu.com/wp-content/uploads/2022/10/Club-Fleurieu-Yankalilla-Show-Photos-4.jpg
ORGANIZER;CN="Club Fleurieu":MAILTO:events@clubfleurieu.com
END:VEVENT
BEGIN:VEVENT
DTSTART;TZID=Asia/Hong_Kong:20251014T120000
DTEND;TZID=Asia/Hong_Kong:20251014T140000
DTSTAMP:20260420T071048
CREATED:20250929T062433Z
LAST-MODIFIED:20250929T062433Z
UID:7416-1760443200-1760450400@clubfleurieu.com
SUMMARY:Club Barbecue Lunch October
DESCRIPTION:Join us for our Barbecue Lunch on Tuesday\, October 14 at 12 noon. \nA super tasty casual lunch. Make your booking to enjoy a tasty BBQ lunch. \nCost: $15 per person. Bookings required.
URL:https://clubfleurieu.com/event/club-barbecue-lunch-october-2/
LOCATION:Club Fleurieu\, 140 Main South Road\, Yankalilla\, South Australia\, 5203\, Australia
CATEGORIES:Barbecue
ATTACH;FMTTYPE=image/png:https://clubfleurieu.com/wp-content/uploads/2016/01/fleurieucoast-club-fleurieu-twilight-bbq1.png
ORGANIZER;CN="Club Fleurieu":MAILTO:events@clubfleurieu.com
END:VEVENT
BEGIN:VEVENT
DTSTART;TZID=Asia/Hong_Kong:20251014T180000
DTEND;TZID=Asia/Hong_Kong:20251014T210000
DTSTAMP:20260420T071048
CREATED:20250830T065618Z
LAST-MODIFIED:20250929T062606Z
UID:7389-1760464800-1760475600@clubfleurieu.com
SUMMARY:Night Bingo at the Club
DESCRIPTION:Join us at the club on Tuesday October 14 at 6.00pm for Night Bingo at the Club. \nBjorn will open the Bar at 6pm\, so come along and enjoy a drink before Bingo starts at 7.00pm. \nNo need to be a Club member\, everyone is welcome to join in the fun. \nPlease BYO nibbles\, and book a table if you’re planning to come as a group.
URL:https://clubfleurieu.com/event/night-bingo-at-the-club-17/
LOCATION:Club Fleurieu\, 140 Main South Road\, Yankalilla\, South Australia\, 5203\, Australia
CATEGORIES:Bingo
ATTACH;FMTTYPE=image/jpeg:https://clubfleurieu.com/wp-content/uploads/2014/10/club-fleurieu-bingo-photo.jpg
ORGANIZER;CN="Club Fleurieu":MAILTO:events@clubfleurieu.com
END:VEVENT
BEGIN:VEVENT
DTSTART;TZID=Asia/Hong_Kong:20251022T120000
DTEND;TZID=Asia/Hong_Kong:20251022T133000
DTSTAMP:20260420T071048
CREATED:20250929T062756Z
LAST-MODIFIED:20250929T062756Z
UID:7422-1761134400-1761139800@clubfleurieu.com
SUMMARY:Club Lunch October
DESCRIPTION:Join us at the club for our Club Lunch on Wednesday October 22 at 12 noon. \nMake your booking to enjoy a delicious two-course meal. \n$20 members\, $25 non-members.
URL:https://clubfleurieu.com/event/club-lunch-october/
LOCATION:Club Fleurieu\, 140 Main South Road\, Yankalilla\, South Australia\, 5203\, Australia
CATEGORIES:Lunch
ATTACH;FMTTYPE=image/jpeg:https://clubfleurieu.com/wp-content/uploads/2021/05/chicken-schnitzel-club-fleurieu.jpg
ORGANIZER;CN="Club Fleurieu":MAILTO:events@clubfleurieu.com
END:VEVENT
BEGIN:VEVENT
DTSTART;TZID=Asia/Hong_Kong:20251025T190000
DTEND;TZID=Asia/Hong_Kong:20251025T220000
DTSTAMP:20260420T071048
CREATED:20250830T070438Z
LAST-MODIFIED:20250830T070438Z
UID:7395-1761418800-1761429600@clubfleurieu.com
SUMMARY:Club Quiz Night
DESCRIPTION:CLUB QUIZ NIGHT … DATE CHANGE to Saturday 25 October  \n7.00pm for a 7.30pm start  \nIt’s always a fun night\, with amazing Quiz Master Rob French testing our brain and memory skills. We’ll have games & great prizes too! Entry $10 per person. Proceeds will go to Yankalilla RSL. Book your table (8 people maximum) or we can arrange for you to join a table. \nBYO Supper. No BYO alcohol\, Bjorn’s Bar will be open for drink and icecream purchases.
URL:https://clubfleurieu.com/event/club-quiz-night-3/
LOCATION:Club Fleurieu\, 140 Main South Road\, Yankalilla\, South Australia\, 5203\, Australia
CATEGORIES:Quiz Night
ATTACH;FMTTYPE=image/jpeg:https://clubfleurieu.com/wp-content/uploads/2017/07/club-fleurieu-coast-quiz-night.jpg
ORGANIZER;CN="Club Fleurieu":MAILTO:events@clubfleurieu.com
END:VEVENT
BEGIN:VEVENT
DTSTART;TZID=Asia/Hong_Kong:20251031T170000
DTEND;TZID=Asia/Hong_Kong:20251031T190000
DTSTAMP:20260420T071048
CREATED:20250929T063003Z
LAST-MODIFIED:20250929T063003Z
UID:7426-1761930000-1761937200@clubfleurieu.com
SUMMARY:October Happy Hour
DESCRIPTION:Join us at the club for our October Happy Hour and Dinner on Friday October 31 from 5.00pm. \nThe Games Room will be available for pool or darts\, and Bjorn has potato chips and icecreams at the bar if you’d like a snack. \n$20 members\, $25 non-members for dinner. \n 
URL:https://clubfleurieu.com/event/october-happy-hour/
LOCATION:Club Fleurieu\, 140 Main South Road\, Yankalilla\, South Australia\, 5203\, Australia
CATEGORIES:Happy Hour
ATTACH;FMTTYPE=image/jpeg:https://clubfleurieu.com/wp-content/uploads/2016/09/happy-hour.jpg
ORGANIZER;CN="Club Fleurieu":MAILTO:events@clubfleurieu.com
END:VEVENT
END:VCALENDAR